BEGIN:VCALENDAR
VERSION:2.0
PRODID:-//Clay County NC Democrats - ECPv6.15.20//NONSGML v1.0//EN
CALSCALE:GREGORIAN
METHOD:PUBLISH
X-WR-CALNAME:Clay County NC Democrats
X-ORIGINAL-URL:https://claycountydems.org
X-WR-CALDESC:Events for Clay County NC Democrats
REFRESH-INTERVAL;VALUE=DURATION:PT1H
X-Robots-Tag:noindex
X-PUBLISHED-TTL:PT1H
BEGIN:VTIMEZONE
TZID:America/New_York
BEGIN:DAYLIGHT
TZOFFSETFROM:-0500
TZOFFSETTO:-0400
TZNAME:EDT
DTSTART:20250309T070000
END:DAYLIGHT
BEGIN:STANDARD
TZOFFSETFROM:-0400
TZOFFSETTO:-0500
TZNAME:EST
DTSTART:20251102T060000
END:STANDARD
BEGIN:DAYLIGHT
TZOFFSETFROM:-0500
TZOFFSETTO:-0400
TZNAME:EDT
DTSTART:20260308T070000
END:DAYLIGHT
BEGIN:STANDARD
TZOFFSETFROM:-0400
TZOFFSETTO:-0500
TZNAME:EST
DTSTART:20261101T060000
END:STANDARD
BEGIN:DAYLIGHT
TZOFFSETFROM:-0500
TZOFFSETTO:-0400
TZNAME:EDT
DTSTART:20270314T070000
END:DAYLIGHT
BEGIN:STANDARD
TZOFFSETFROM:-0400
TZOFFSETTO:-0500
TZNAME:EST
DTSTART:20271107T060000
END:STANDARD
END:VTIMEZONE
BEGIN:VEVENT
DTSTART;TZID=America/New_York:20260425T110000
DTEND;TZID=America/New_York:20260425T120000
DTSTAMP:20260425T201637
CREATED:20260416T175723Z
LAST-MODIFIED:20260416T181525Z
UID:3541-1777114800-1777118400@claycountydems.org
SUMMARY:Love America Rally in Murphy
DESCRIPTION:Join area neighbors in Downtown Murphy for a “Love America Rally”… see attached event flyer for details.
URL:https://claycountydems.org/event/love-america-rally-in-murphy/
LOCATION:Downtown Murphy & Art Center\, 12 Peachtree Street\, Murphy\, NC\, 28906\, United States
ATTACH;FMTTYPE=image/png:https://claycountydems.org/wp-content/uploads/2026/04/Love-America-Rally-png.png
END:VEVENT
END:VCALENDAR