BEGIN:VCALENDAR
VERSION:2.0
PRODID:-//Clay County NC Democrats - ECPv6.15.20//NONSGML v1.0//EN
CALSCALE:GREGORIAN
METHOD:PUBLISH
X-WR-CALNAME:Clay County NC Democrats
X-ORIGINAL-URL:https://claycountydems.org
X-WR-CALDESC:Events for Clay County NC Democrats
REFRESH-INTERVAL;VALUE=DURATION:PT1H
X-Robots-Tag:noindex
X-PUBLISHED-TTL:PT1H
BEGIN:VTIMEZONE
TZID:America/New_York
BEGIN:DAYLIGHT
TZOFFSETFROM:-0500
TZOFFSETTO:-0400
TZNAME:EDT
DTSTART:20210314T070000
END:DAYLIGHT
BEGIN:STANDARD
TZOFFSETFROM:-0400
TZOFFSETTO:-0500
TZNAME:EST
DTSTART:20211107T060000
END:STANDARD
BEGIN:DAYLIGHT
TZOFFSETFROM:-0500
TZOFFSETTO:-0400
TZNAME:EDT
DTSTART:20220313T070000
END:DAYLIGHT
BEGIN:STANDARD
TZOFFSETFROM:-0400
TZOFFSETTO:-0500
TZNAME:EST
DTSTART:20221106T060000
END:STANDARD
BEGIN:DAYLIGHT
TZOFFSETFROM:-0500
TZOFFSETTO:-0400
TZNAME:EDT
DTSTART:20230312T070000
END:DAYLIGHT
BEGIN:STANDARD
TZOFFSETFROM:-0400
TZOFFSETTO:-0500
TZNAME:EST
DTSTART:20231105T060000
END:STANDARD
BEGIN:DAYLIGHT
TZOFFSETFROM:-0500
TZOFFSETTO:-0400
TZNAME:EDT
DTSTART:20240310T070000
END:DAYLIGHT
BEGIN:STANDARD
TZOFFSETFROM:-0400
TZOFFSETTO:-0500
TZNAME:EST
DTSTART:20241103T060000
END:STANDARD
END:VTIMEZONE
BEGIN:VEVENT
DTSTART;TZID=America/New_York:20230410T063000
DTEND;TZID=America/New_York:20230410T193000
DTSTAMP:20260422T060411
CREATED:20230322T021029Z
LAST-MODIFIED:20230322T024816Z
UID:1332-1681108200-1681155000@claycountydems.org
SUMMARY:Hayesville Town Council Meeting
DESCRIPTION:Town Council meetings are open to the public and held on the 2nd Monday of each month at 6:30 pm.  You may call the Town Clerk at 828-389-1862 for more information on the Town Council or for specific meeting information.  Meeting minutes and information may be found here.
URL:https://claycountydems.org/event/hayesville-town-council-meeting/
LOCATION:Hayesville Town Hall\, 56 Sanderson Street\, Hayesville\, NC\, 28904\, United States
ATTACH;FMTTYPE=image/jpeg:https://claycountydems.org/wp-content/uploads/2023/03/HayesvilleTownCouncil-1.jpg
END:VEVENT
BEGIN:VEVENT
DTSTART;TZID=America/New_York:20230406T184500
DTEND;TZID=America/New_York:20230406T193000
DTSTAMP:20260422T060411
CREATED:20230105T230147Z
LAST-MODIFIED:20230105T230147Z
UID:1263-1680806700-1680809400@claycountydems.org
SUMMARY:Clay County Board of Commissioners Meeting
DESCRIPTION:The Clay County Board of Commissioners meet monthly on the 1st Thursday of the month at 6:45 PM.  A button linking to the current agenda can be found here: https://www.claync.us/board-of-commissioners
URL:https://claycountydems.org/event/clay-county-board-of-commissioners-meeting-14/
LOCATION:Board of Commissioners Meeting Location\, 261 Courthouse Drive\, Hayesville\, 28904\, United States
ATTACH;FMTTYPE=image/png:https://claycountydems.org/wp-content/uploads/2022/01/ClayCounty.png
END:VEVENT
BEGIN:VEVENT
DTSTART;TZID=America/New_York:20230327T180000
DTEND;TZID=America/New_York:20230327T190000
DTSTAMP:20260422T060411
CREATED:20230105T235733Z
LAST-MODIFIED:20230105T235733Z
UID:1285-1679940000-1679943600@claycountydems.org
SUMMARY:School Board Meeting
DESCRIPTION:The Clay County Board of Education meets in regular session on the 4th Monday night every month unless otherwise posted. All meetings begin at 6:00 pm in the board room of the Clay County Board of Education office.  Past meeting minutes may be found here.
URL:https://claycountydems.org/event/school-board-meeting-14/
LOCATION:School Board Meeting Location\, 154 Yellow Jacket Dr\,\, Hayesville\, 28904\, United States
ATTACH;FMTTYPE=image/png:https://claycountydems.org/wp-content/uploads/2022/01/SchoolBoard.png
END:VEVENT
BEGIN:VEVENT
DTSTART;TZID=America/New_York:20230315T113000
DTEND;TZID=America/New_York:20230315T133000
DTSTAMP:20260422T060411
CREATED:20230306T004420Z
LAST-MODIFIED:20230306T004926Z
UID:1317-1678879800-1678887000@claycountydems.org
SUMMARY:Tri-County Democratic Women Celebrate Women's History Month
DESCRIPTION:Join the Tri-County Democratic Women March 15th at 11:30 am for a special celebration of Women’s History Month.
URL:https://claycountydems.org/event/tcdw_whm/
LOCATION:El Maguey Mexican Restaurant\, 1466 Andrews Rd\, Murphy\, NC\, 28906\, United States
ATTACH;FMTTYPE=image/jpeg:https://claycountydems.org/wp-content/uploads/2023/03/WHM.jpg
END:VEVENT
BEGIN:VEVENT
DTSTART;TZID=America/New_York:20230314T090000
DTEND;TZID=America/New_York:20230314T100000
DTSTAMP:20260422T060411
CREATED:20230322T183417Z
LAST-MODIFIED:20230322T183417Z
UID:1389-1678784400-1678788000@claycountydems.org
SUMMARY:Board of Elections Meeting
DESCRIPTION:The Clay County Board of Elections meets monthly on the 2nd Tuesday of the month at 9:00 AM.
URL:https://claycountydems.org/event/board-of-elections-meeting/
LOCATION:Board of Elections Meeting Location\, 75 Riverside Circle\, Suite 3\, Hayesville\, NC\, 28904
ATTACH;FMTTYPE=image/jpeg:https://claycountydems.org/wp-content/uploads/2023/03/BoardOfElections.jpg
END:VEVENT
BEGIN:VEVENT
DTSTART;TZID=America/New_York:20230302T184500
DTEND;TZID=America/New_York:20230302T193000
DTSTAMP:20260422T060411
CREATED:20230105T225957Z
LAST-MODIFIED:20230105T225957Z
UID:1261-1677782700-1677785400@claycountydems.org
SUMMARY:Clay County Board of Commissioners Meeting
DESCRIPTION:The Clay County Board of Commissioners meet monthly on the 1st Thursday of the month at 6:45 PM.  A button linking to the current agenda can be found here: https://www.claync.us/board-of-commissioners
URL:https://claycountydems.org/event/clay-county-board-of-commissioners-meeting-13/
LOCATION:Board of Commissioners Meeting Location\, 261 Courthouse Drive\, Hayesville\, 28904\, United States
ATTACH;FMTTYPE=image/png:https://claycountydems.org/wp-content/uploads/2022/01/ClayCounty.png
END:VEVENT
BEGIN:VEVENT
DTSTART;TZID=America/New_York:20230227T180000
DTEND;TZID=America/New_York:20230227T190000
DTSTAMP:20260422T060411
CREATED:20230105T235610Z
LAST-MODIFIED:20230105T235610Z
UID:1283-1677520800-1677524400@claycountydems.org
SUMMARY:School Board Meeting
DESCRIPTION:The Clay County Board of Education meets in regular session on the 4th Monday night every month unless otherwise posted. All meetings begin at 6:00 pm in the board room of the Clay County Board of Education office.  Past meeting minutes may be found here.
URL:https://claycountydems.org/event/school-board-meeting-13/
LOCATION:School Board Meeting Location\, 154 Yellow Jacket Dr\,\, Hayesville\, 28904\, United States
ATTACH;FMTTYPE=image/png:https://claycountydems.org/wp-content/uploads/2022/01/SchoolBoard.png
END:VEVENT
BEGIN:VEVENT
DTSTART;TZID=America/New_York:20230225T110000
DTEND;TZID=America/New_York:20230225T130000
DTSTAMP:20260422T060411
CREATED:20230223T151342Z
LAST-MODIFIED:20230223T151342Z
UID:1309-1677322800-1677330000@claycountydems.org
SUMMARY:Clay County Registered Democrats Gathering
DESCRIPTION:All Clay County Registered Democrats and their families are invited to attend this organization meeting.
URL:https://claycountydems.org/event/clay-county-registered-democrats-gathering/
LOCATION:Hayesville High School\, 205 Yellow Jacket Dr\, Hayesville\, 28904
ATTACH;FMTTYPE=image/jpeg:https://claycountydems.org/wp-content/uploads/2023/02/CountyMeeting02252023.jpg
END:VEVENT
BEGIN:VEVENT
DTSTART;TZID=America/New_York:20230202T184500
DTEND;TZID=America/New_York:20230202T193000
DTSTAMP:20260422T060411
CREATED:20230105T225842Z
LAST-MODIFIED:20230105T225842Z
UID:1259-1675363500-1675366200@claycountydems.org
SUMMARY:Clay County Board of Commissioners Meeting
DESCRIPTION:The Clay County Board of Commissioners meet monthly on the 1st Thursday of the month at 6:45 PM.  A button linking to the current agenda can be found here: https://www.claync.us/board-of-commissioners
URL:https://claycountydems.org/event/clay-county-board-of-commissioners-meeting-12/
LOCATION:Board of Commissioners Meeting Location\, 261 Courthouse Drive\, Hayesville\, 28904\, United States
ATTACH;FMTTYPE=image/png:https://claycountydems.org/wp-content/uploads/2022/01/ClayCounty.png
END:VEVENT
BEGIN:VEVENT
DTSTART;TZID=America/New_York:20230123T180000
DTEND;TZID=America/New_York:20230123T190000
DTSTAMP:20260422T060411
CREATED:20230105T235500Z
LAST-MODIFIED:20230105T235500Z
UID:1281-1674496800-1674500400@claycountydems.org
SUMMARY:School Board Meeting
DESCRIPTION:The Clay County Board of Education meets in regular session on the 4th Monday night every month unless otherwise posted. All meetings begin at 6:00 pm in the board room of the Clay County Board of Education office.  Past meeting minutes may be found here.
URL:https://claycountydems.org/event/school-board-meeting-9/
LOCATION:School Board Meeting Location\, 154 Yellow Jacket Dr\,\, Hayesville\, 28904\, United States
ATTACH;FMTTYPE=image/png:https://claycountydems.org/wp-content/uploads/2022/01/SchoolBoard.png
END:VEVENT
BEGIN:VEVENT
DTSTART;TZID=America/New_York:20230111T113000
DTEND;TZID=America/New_York:20230111T123000
DTSTAMP:20260422T060411
CREATED:20221230T193728Z
LAST-MODIFIED:20221230T193728Z
UID:1254-1673436600-1673440200@claycountydems.org
SUMMARY:Tri-County Democratic Women's Meeting
DESCRIPTION:The first meeting of the Tri-County Democratic Women will be Jan 11th\, 11:30 am.  Light refreshments will be served.  Bring a friend. Men are welcome. For more information call Pat at 980-297-2270.
URL:https://claycountydems.org/event/tri-county-democratic-womens-meeting/
LOCATION:Cherokee County Democratic Party Headquarters\, 142 Main St\, Andrews\, NC\, 28901\, United States
ATTACH;FMTTYPE=image/png:https://claycountydems.org/wp-content/uploads/2022/01/Tri-CountyDemWomen_1Kx1K.png
END:VEVENT
BEGIN:VEVENT
DTSTART;TZID=America/New_York:20230105T184500
DTEND;TZID=America/New_York:20230105T193000
DTSTAMP:20260422T060411
CREATED:20230105T225618Z
LAST-MODIFIED:20230105T225618Z
UID:1257-1672944300-1672947000@claycountydems.org
SUMMARY:Clay County Board of Commissioners Meeting
DESCRIPTION:The Clay County Board of Commissioners meet monthly on the 1st Thursday of the month at 6:45 PM.  A button linking to the current agenda can be found here: https://www.claync.us/board-of-commissioners
URL:https://claycountydems.org/event/clay-county-board-of-commissioners-meeting-11/
LOCATION:Board of Commissioners Meeting Location\, 261 Courthouse Drive\, Hayesville\, 28904\, United States
ATTACH;FMTTYPE=image/png:https://claycountydems.org/wp-content/uploads/2022/01/ClayCounty.png
END:VEVENT
BEGIN:VEVENT
DTSTART;TZID=America/New_York:20221215T170000
DTEND;TZID=America/New_York:20221215T220000
DTSTAMP:20260422T060411
CREATED:20221209T144429Z
LAST-MODIFIED:20221209T144429Z
UID:1238-1671123600-1671141600@claycountydems.org
SUMMARY:Holiday Party!
DESCRIPTION:Come join us for a Holiday Party at 5:00 pm\, Thursday Dec 15 at the Clay County Democratic Headquarters.   Whether you are brand new in the area\, or a longtime Clay County resident\, this is sure to be a great evening of fun\, mingling\, and great conversation.   You may bring a Holiday dish to share (finger foods) and/or beverage(s) of your liking.  We are looking forward to meet you there!
URL:https://claycountydems.org/event/holiday-party/
LOCATION:(Old) Clay County Democratic Party Headquarters\, 165 HWY 64 West\, Hayesville\, NC\, 28904\, United States
ATTACH;FMTTYPE=image/png:https://claycountydems.org/wp-content/uploads/2022/12/2022XmasPartyInvit.png
END:VEVENT
BEGIN:VEVENT
DTSTART;TZID=America/New_York:20221213T090000
DTEND;TZID=America/New_York:20221213T100000
DTSTAMP:20260422T060411
CREATED:20220128T141008Z
LAST-MODIFIED:20220128T141919Z
UID:889-1670922000-1670925600@claycountydems.org
SUMMARY:Clay County Board of Elections Meeting
DESCRIPTION:The Clay County Board of Elections meets monthly on the 2nd Tuesday of the month at 9:00 AM.
URL:https://claycountydems.org/event/clay-county-board-of-elections-meeting-4/
LOCATION:Board of Elections Meeting Location\, 75 Riverside Circle\, Suite 3\, Hayesville\, NC\, 28904
END:VEVENT
BEGIN:VEVENT
DTSTART;TZID=America/New_York:20221128T180000
DTEND;TZID=America/New_York:20221128T190000
DTSTAMP:20260422T060411
CREATED:20220113T200038Z
LAST-MODIFIED:20220128T133916Z
UID:650-1669658400-1669662000@claycountydems.org
SUMMARY:School Board Meeting
DESCRIPTION:The Clay County School Board meets monthly on the 4th Monday of the month at 6:00 PM
URL:https://claycountydems.org/event/school-board-meeting-12/
LOCATION:School Board Meeting Location\, 154 Yellow Jacket Dr\,\, Hayesville\, 28904\, United States
ATTACH;FMTTYPE=image/png:https://claycountydems.org/wp-content/uploads/2022/01/SchoolBoard.png
END:VEVENT
BEGIN:VEVENT
DTSTART;TZID=America/New_York:20221108T063000
DTEND;TZID=America/New_York:20221108T193000
DTSTAMP:20260422T060411
CREATED:20221103T132442Z
LAST-MODIFIED:20221103T132647Z
UID:1228-1667889000-1667935800@claycountydems.org
SUMMARY:Election Day for the 2022 General Election
DESCRIPTION:If you haven’t voted early or by mail\, then its time to show up at your local precinct to vote.  Polls are open 6:30 am to 7:30 pm and you can find information about your precinct here.
URL:https://claycountydems.org/event/election-day-for-the-2022-general-election/
LOCATION:NC
ATTACH;FMTTYPE=image/jpeg:https://claycountydems.org/wp-content/uploads/2022/01/I_Voted_Stickers_1280_864-e1642692398138.jpg
END:VEVENT
BEGIN:VEVENT
DTSTART;TZID=America/New_York:20221103T184500
DTEND;TZID=America/New_York:20221103T193000
DTSTAMP:20260422T060411
CREATED:20220113T201448Z
LAST-MODIFIED:20220128T134449Z
UID:656-1667501100-1667503800@claycountydems.org
SUMMARY:Clay County Board of Commissioners Meeting
DESCRIPTION:The Clay County Board of Commissioners meet monthly on the 1st Thursday of the month at 6:45 PM.  A button linking to the current agenda can be found here: https://www.claync.us/board-of-commissioners
URL:https://claycountydems.org/event/clay-county-board-of-commissioners-meeting-10/
LOCATION:Board of Commissioners Meeting Location\, 261 Courthouse Drive\, Hayesville\, 28904\, United States
ATTACH;FMTTYPE=image/png:https://claycountydems.org/wp-content/uploads/2022/01/ClayCounty.png
END:VEVENT
BEGIN:VEVENT
DTSTART;TZID=America/New_York:20221024T180000
DTEND;TZID=America/New_York:20221024T190000
DTSTAMP:20260422T060411
CREATED:20220113T195911Z
LAST-MODIFIED:20220128T133929Z
UID:649-1666634400-1666638000@claycountydems.org
SUMMARY:School Board Meeting
DESCRIPTION:The Clay County School Board meets monthly on the 4th Monday of the month at 6:00 PM
URL:https://claycountydems.org/event/school-board-meeting-11/
LOCATION:School Board Meeting Location\, 154 Yellow Jacket Dr\,\, Hayesville\, 28904\, United States
ATTACH;FMTTYPE=image/png:https://claycountydems.org/wp-content/uploads/2022/01/SchoolBoard.png
END:VEVENT
BEGIN:VEVENT
DTSTART;TZID=America/New_York:20221011T090000
DTEND;TZID=America/New_York:20221011T100000
DTSTAMP:20260422T060411
CREATED:20220128T141819Z
LAST-MODIFIED:20220128T141819Z
UID:899-1665478800-1665482400@claycountydems.org
SUMMARY:Clay County Board of Elections Meeting
DESCRIPTION:The Clay County Board of Elections meets monthly on the 2nd Tuesday of the month at 9:00 AM.
URL:https://claycountydems.org/event/clay-county-board-of-elections-meeting-9/
LOCATION:Board of Elections Meeting Location\, 75 Riverside Circle\, Suite 3\, Hayesville\, NC\, 28904
END:VEVENT
BEGIN:VEVENT
DTSTART;TZID=America/New_York:20221006T184500
DTEND;TZID=America/New_York:20221006T193000
DTSTAMP:20260422T060411
CREATED:20220113T201318Z
LAST-MODIFIED:20220128T134726Z
UID:655-1665081900-1665084600@claycountydems.org
SUMMARY:Clay County Board of Commissioners Meeting
DESCRIPTION:The Clay County Board of Commissioners meet monthly on the 1st Thursday of the month at 6:45 PM.  A button linking to the current agenda can be found here: https://www.claync.us/board-of-commissioners
URL:https://claycountydems.org/event/clay-county-board-of-commissioners-meeting-9/
LOCATION:Board of Commissioners Meeting Location\, 261 Courthouse Drive\, Hayesville\, 28904\, United States
ATTACH;FMTTYPE=image/png:https://claycountydems.org/wp-content/uploads/2022/01/ClayCounty.png
END:VEVENT
BEGIN:VEVENT
DTSTART;TZID=America/New_York:20220926T180000
DTEND;TZID=America/New_York:20220926T190000
DTSTAMP:20260422T060411
CREATED:20220113T195803Z
LAST-MODIFIED:20220128T133734Z
UID:648-1664215200-1664218800@claycountydems.org
SUMMARY:School Board Meeting
DESCRIPTION:The Clay County School Board meets monthly on the 4th Monday of the month at 6:00 PM
URL:https://claycountydems.org/event/school-board-meeting-10/
LOCATION:School Board Meeting Location\, 154 Yellow Jacket Dr\,\, Hayesville\, 28904\, United States
ATTACH;FMTTYPE=image/png:https://claycountydems.org/wp-content/uploads/2022/01/SchoolBoard.png
END:VEVENT
BEGIN:VEVENT
DTSTART;TZID=America/New_York:20220913T090000
DTEND;TZID=America/New_York:20220913T100000
DTSTAMP:20260422T060411
CREATED:20220128T141449Z
LAST-MODIFIED:20220128T141449Z
UID:897-1663059600-1663063200@claycountydems.org
SUMMARY:Clay County Board of Elections Meeting
DESCRIPTION:The Clay County Board of Elections meets monthly on the 2nd Tuesday of the month at 9:00 AM.
URL:https://claycountydems.org/event/clay-county-board-of-elections-meeting-8/
LOCATION:Board of Elections Meeting Location\, 75 Riverside Circle\, Suite 3\, Hayesville\, NC\, 28904
END:VEVENT
BEGIN:VEVENT
DTSTART;TZID=America/New_York:20220901T184500
DTEND;TZID=America/New_York:20220901T193000
DTSTAMP:20260422T060411
CREATED:20220113T201135Z
LAST-MODIFIED:20220128T134746Z
UID:654-1662057900-1662060600@claycountydems.org
SUMMARY:Clay County Board of Commissioners Meeting
DESCRIPTION:The Clay County Board of Commissioners meet monthly on the 1st Thursday of the month at 6:45 PM.  A button linking to the current agenda can be found here: https://www.claync.us/board-of-commissioners
URL:https://claycountydems.org/event/clay-county-board-of-commissioners-meeting-8/
LOCATION:Board of Commissioners Meeting Location\, 261 Courthouse Drive\, Hayesville\, 28904\, United States
ATTACH;FMTTYPE=image/png:https://claycountydems.org/wp-content/uploads/2022/01/ClayCounty.png
END:VEVENT
BEGIN:VEVENT
DTSTART;TZID=America/New_York:20220822T180000
DTEND;TZID=America/New_York:20220822T190000
DTSTAMP:20260422T060411
CREATED:20220113T195230Z
LAST-MODIFIED:20220128T133719Z
UID:647-1661191200-1661194800@claycountydems.org
SUMMARY:School Board Meeting
DESCRIPTION:The Clay County School Board meets monthly on the 4th Monday of the month at 6:00 PM
URL:https://claycountydems.org/event/school-board-meeting-8/
LOCATION:School Board Meeting Location\, 154 Yellow Jacket Dr\,\, Hayesville\, 28904\, United States
ATTACH;FMTTYPE=image/png:https://claycountydems.org/wp-content/uploads/2022/01/SchoolBoard.png
END:VEVENT
BEGIN:VEVENT
DTSTART;TZID=America/New_York:20220809T090000
DTEND;TZID=America/New_York:20220809T100000
DTSTAMP:20260422T060411
CREATED:20220128T141321Z
LAST-MODIFIED:20220128T141321Z
UID:895-1660035600-1660039200@claycountydems.org
SUMMARY:Clay County Board of Elections Meeting
DESCRIPTION:The Clay County Board of Elections meets monthly on the 2nd Tuesday of the month at 9:00 AM.
URL:https://claycountydems.org/event/clay-county-board-of-elections-meeting-7/
LOCATION:Board of Elections Meeting Location\, 75 Riverside Circle\, Suite 3\, Hayesville\, NC\, 28904
END:VEVENT
BEGIN:VEVENT
DTSTART;TZID=America/New_York:20220804T184500
DTEND;TZID=America/New_York:20220804T193000
DTSTAMP:20260422T060411
CREATED:20220113T201008Z
LAST-MODIFIED:20220128T134819Z
UID:626-1659638700-1659641400@claycountydems.org
SUMMARY:Clay County Board of Commissioners Meeting
DESCRIPTION:The Clay County Board of Commissioners meet monthly on the 1st Thursday of the month at 6:45 PM.  A button linking to the current agenda can be found here: https://www.claync.us/board-of-commissioners
URL:https://claycountydems.org/event/clay-county-board-of-commissioners-meeting-7/
LOCATION:Board of Commissioners Meeting Location\, 261 Courthouse Drive\, Hayesville\, 28904\, United States
ATTACH;FMTTYPE=image/png:https://claycountydems.org/wp-content/uploads/2022/01/ClayCounty.png
END:VEVENT
BEGIN:VEVENT
DTSTART;TZID=America/New_York:20220725T180000
DTEND;TZID=America/New_York:20220725T190000
DTSTAMP:20260422T060411
CREATED:20220113T195011Z
LAST-MODIFIED:20220128T133623Z
UID:646-1658772000-1658775600@claycountydems.org
SUMMARY:School Board Meeting
DESCRIPTION:The Clay County School Board meets monthly on the 4th Monday of the month at 6:00 PM
URL:https://claycountydems.org/event/school-board-meeting-7/
LOCATION:School Board Meeting Location\, 154 Yellow Jacket Dr\,\, Hayesville\, 28904\, United States
ATTACH;FMTTYPE=image/png:https://claycountydems.org/wp-content/uploads/2022/01/SchoolBoard.png
END:VEVENT
BEGIN:VEVENT
DTSTART;TZID=America/New_York:20220721T184500
DTEND;TZID=America/New_York:20220721T193000
DTSTAMP:20260422T060411
CREATED:20220113T200853Z
LAST-MODIFIED:20220712T195023Z
UID:624-1658429100-1658431800@claycountydems.org
SUMMARY:Clay County Board of Commissioners Meeting
DESCRIPTION:Typically\, the Clay County Board of Commissioners meet monthly on the 1st Thursday of the month at 6:45 PM\, however this meeting has been scheduled for the third Thursday for this month.   A button linking to the current agenda can be found here: https://www.claync.us/board-of-commissioners
URL:https://claycountydems.org/event/clay-county-board-of-commissioners-meeting-6/
LOCATION:Board of Commissioners Meeting Location\, 261 Courthouse Drive\, Hayesville\, 28904\, United States
ATTACH;FMTTYPE=image/png:https://claycountydems.org/wp-content/uploads/2022/01/ClayCounty.png
END:VEVENT
BEGIN:VEVENT
DTSTART;TZID=America/New_York:20220712T090000
DTEND;TZID=America/New_York:20220712T100000
DTSTAMP:20260422T060411
CREATED:20220128T141219Z
LAST-MODIFIED:20220128T141219Z
UID:893-1657616400-1657620000@claycountydems.org
SUMMARY:Clay County Board of Elections Meeting
DESCRIPTION:The Clay County Board of Elections meets monthly on the 2nd Tuesday of the month at 9:00 AM.
URL:https://claycountydems.org/event/clay-county-board-of-elections-meeting-6/
LOCATION:Board of Elections Meeting Location\, 75 Riverside Circle\, Suite 3\, Hayesville\, NC\, 28904
END:VEVENT
BEGIN:VEVENT
DTSTART;TZID=America/New_York:20220627T180000
DTEND;TZID=America/New_York:20220627T190000
DTSTAMP:20260422T060411
CREATED:20220113T194900Z
LAST-MODIFIED:20220128T133605Z
UID:645-1656352800-1656356400@claycountydems.org
SUMMARY:School Board Meeting
DESCRIPTION:The Clay County School Board meets monthly on the 4th Monday of the month at 6:00 PM \n\n\n\n\n\n\n\n\n\n\n\n\n\n 
URL:https://claycountydems.org/event/school-board-meeting-6/
LOCATION:School Board Meeting Location\, 154 Yellow Jacket Dr\,\, Hayesville\, 28904\, United States
ATTACH;FMTTYPE=image/png:https://claycountydems.org/wp-content/uploads/2022/01/SchoolBoard.png
END:VEVENT
END:VCALENDAR