BEGIN:VCALENDAR
VERSION:2.0
PRODID:-//Clay County NC Democrats - ECPv6.15.20//NONSGML v1.0//EN
CALSCALE:GREGORIAN
METHOD:PUBLISH
X-WR-CALNAME:Clay County NC Democrats
X-ORIGINAL-URL:https://claycountydems.org
X-WR-CALDESC:Events for Clay County NC Democrats
REFRESH-INTERVAL;VALUE=DURATION:PT1H
X-Robots-Tag:noindex
X-PUBLISHED-TTL:PT1H
BEGIN:VTIMEZONE
TZID:America/New_York
BEGIN:DAYLIGHT
TZOFFSETFROM:-0500
TZOFFSETTO:-0400
TZNAME:EDT
DTSTART:20220313T070000
END:DAYLIGHT
BEGIN:STANDARD
TZOFFSETFROM:-0400
TZOFFSETTO:-0500
TZNAME:EST
DTSTART:20221106T060000
END:STANDARD
BEGIN:DAYLIGHT
TZOFFSETFROM:-0500
TZOFFSETTO:-0400
TZNAME:EDT
DTSTART:20230312T070000
END:DAYLIGHT
BEGIN:STANDARD
TZOFFSETFROM:-0400
TZOFFSETTO:-0500
TZNAME:EST
DTSTART:20231105T060000
END:STANDARD
BEGIN:DAYLIGHT
TZOFFSETFROM:-0500
TZOFFSETTO:-0400
TZNAME:EDT
DTSTART:20240310T070000
END:DAYLIGHT
BEGIN:STANDARD
TZOFFSETFROM:-0400
TZOFFSETTO:-0500
TZNAME:EST
DTSTART:20241103T060000
END:STANDARD
END:VTIMEZONE
BEGIN:VEVENT
DTSTART;TZID=America/New_York:20230907T184500
DTEND;TZID=America/New_York:20230907T193000
DTSTAMP:20260422T003135
CREATED:20230105T231109Z
LAST-MODIFIED:20230105T231109Z
UID:1273-1694112300-1694115000@claycountydems.org
SUMMARY:Clay County Board of Commissioners Meeting
DESCRIPTION:The Clay County Board of Commissioners meet monthly on the 1st Thursday of the month at 6:45 PM.  A button linking to the current agenda can be found here: https://www.claync.us/board-of-commissioners
URL:https://claycountydems.org/event/clay-county-board-of-commissioners-meeting-19/
LOCATION:Board of Commissioners Meeting Location\, 261 Courthouse Drive\, Hayesville\, 28904\, United States
ATTACH;FMTTYPE=image/png:https://claycountydems.org/wp-content/uploads/2022/01/ClayCounty.png
END:VEVENT
BEGIN:VEVENT
DTSTART;TZID=America/New_York:20230911T180000
DTEND;TZID=America/New_York:20230911T193000
DTSTAMP:20260422T003135
CREATED:20230816T195511Z
LAST-MODIFIED:20230816T195511Z
UID:1518-1694455200-1694460600@claycountydems.org
SUMMARY:Banned Book Club
DESCRIPTION:Terry Penland will be moderating her selection of Aristotle and Dante Discover the Secrets of the Universe by Benjamin Alire Saenz for our September meeting. Please note that this meeting will take place at the Moss Memorial Library meeting room.  Entrance will be via the side door\, off of Main Street\, perpendicular to the entrance of The Friends of the Library Book Store. \nThe Banned Book Club stands up for intellectual rights by reading and discussing books that have been banned in libraries right here in the United States.  Anyone who cares about the freedom to exchange ideas is welcome to attend.  You may also be interested in visiting The Banned Book Club website to learn how to stand up and fight book bans and also how to get access to banned books in communities where they were banned.
URL:https://claycountydems.org/event/banned-book-club-6/
LOCATION:Moss Public Library (Hayesville)\, 26 Anderson St\, Hayesville\, NC\, 28904\, United States
ATTACH;FMTTYPE=image/jpeg:https://claycountydems.org/wp-content/uploads/2023/03/BannedBookClub.jpg
END:VEVENT
BEGIN:VEVENT
DTSTART;TZID=America/New_York:20230911T183000
DTEND;TZID=America/New_York:20230911T193000
DTSTAMP:20260422T003135
CREATED:20230322T030032Z
LAST-MODIFIED:20230322T030032Z
UID:1347-1694457000-1694460600@claycountydems.org
SUMMARY:Hayesville Town Council Meeting
DESCRIPTION:Town Council meetings are open to the public and held on the 2nd Monday of each month at 6:30 pm.  You may call the Town Clerk at 828-389-1862 for more information on the Town Council or for specific meeting information.  Meeting minutes and information may be found here.
URL:https://claycountydems.org/event/hayesville-town-council-meeting-6/
LOCATION:Hayesville Town Hall\, 56 Sanderson Street\, Hayesville\, NC\, 28904\, United States
ATTACH;FMTTYPE=image/jpeg:https://claycountydems.org/wp-content/uploads/2023/03/HayesvilleTownCouncil-1.jpg
END:VEVENT
BEGIN:VEVENT
DTSTART;TZID=America/New_York:20230912T090000
DTEND;TZID=America/New_York:20230912T100000
DTSTAMP:20260422T003135
CREATED:20230322T184142Z
LAST-MODIFIED:20230322T184142Z
UID:1402-1694509200-1694512800@claycountydems.org
SUMMARY:Board of Elections Meeting
DESCRIPTION:The Clay County Board of Elections meets monthly on the 2nd Tuesday of the month at 9:00 AM.
URL:https://claycountydems.org/event/board-of-elections-meeting-7/
LOCATION:Board of Elections Meeting Location\, 75 Riverside Circle\, Suite 3\, Hayesville\, NC\, 28904
ATTACH;FMTTYPE=image/jpeg:https://claycountydems.org/wp-content/uploads/2023/03/BoardOfElections.jpg
END:VEVENT
BEGIN:VEVENT
DTSTART;TZID=America/New_York:20230919T183000
DTEND;TZID=America/New_York:20230919T200000
DTSTAMP:20260422T003135
CREATED:20230814T222019Z
LAST-MODIFIED:20230814T222902Z
UID:1511-1695148200-1695153600@claycountydems.org
SUMMARY:Dr. Kathe Lowney Speaks on "Cults"
DESCRIPTION:Join us for this free informational event at the Moss Public Library in Hayesville.  See flyer image for details.
URL:https://claycountydems.org/event/dr-kathe-lowney-on-cults/
LOCATION:Moss Public Library (Hayesville)\, 26 Anderson St\, Hayesville\, NC\, 28904\, United States
ATTACH;FMTTYPE=image/jpeg:https://claycountydems.org/wp-content/uploads/2023/08/LowneyCultTalk.jpg
END:VEVENT
BEGIN:VEVENT
DTSTART;TZID=America/New_York:20230921T180000
DTEND;TZID=America/New_York:20230921T210000
DTSTAMP:20260422T003135
CREATED:20230724T193024Z
LAST-MODIFIED:20230814T212713Z
UID:1499-1695319200-1695330000@claycountydems.org
SUMMARY:Game Night
DESCRIPTION:Join us for Game Night which will be a night of fun and socializing for everyone.  Games are a great way to grow our minds and keep them sharp while having fun. We will begin gathering at 6:00 PM and probably start playing around 7:00 PM until 10:00 PM.  We have cards and board games\, but feel free to bring a game you love and we can learn together.  You can also bring a snack or drink to share if you like. \nGame Night occurs the 3rd Thursday of each month.
URL:https://claycountydems.org/event/game-night-2/
LOCATION:Clay County Democratic Party Headquarters\, 568 Tusquittee\, Hayesville\, NC\, 28904\, United States
ATTACH;FMTTYPE=image/jpeg:https://claycountydems.org/wp-content/uploads/2023/07/GameNight.jpg
END:VEVENT
BEGIN:VEVENT
DTSTART;TZID=America/New_York:20230925T180000
DTEND;TZID=America/New_York:20230925T190000
DTSTAMP:20260422T003135
CREATED:20230106T000625Z
LAST-MODIFIED:20230106T000625Z
UID:1297-1695664800-1695668400@claycountydems.org
SUMMARY:School Board Meeting
DESCRIPTION:The Clay County Board of Education meets in regular session on the 4th Monday night every month unless otherwise posted. All meetings begin at 6:00 pm in the board room of the Clay County Board of Education office.  Past meeting minutes may be found here.
URL:https://claycountydems.org/event/school-board-meeting-20/
LOCATION:School Board Meeting Location\, 154 Yellow Jacket Dr\,\, Hayesville\, 28904\, United States
ATTACH;FMTTYPE=image/png:https://claycountydems.org/wp-content/uploads/2022/01/SchoolBoard.png
END:VEVENT
BEGIN:VEVENT
DTSTART;TZID=America/New_York:20230926T180000
DTEND;TZID=America/New_York:20230926T193000
DTSTAMP:20260422T003135
CREATED:20230906T165546Z
LAST-MODIFIED:20230906T165546Z
UID:1525-1695751200-1695756600@claycountydems.org
SUMMARY:Clay County Democrats September Meeting
DESCRIPTION:All Clay County Democrats are invited to attend our monthly meeting at The Corner Coffee Shop in Hayesville on Sept 26th.  This month our guest speaker is the Director of the Clay County Board of Elections\, Rebecca Hall who will speak at 6:00 PM and will cover new voter ID requirements for elections. \nThe Clay County Democrats meet the fourth Tuesday of each month at 6:00 PM.  All Clay County Democrats are welcome to attend.
URL:https://claycountydems.org/event/clay-county-democrats-september-meeting/
LOCATION:The Corner Coffee Shop\, 66 Church St\,\, Hayesville\, NC\, 28904\, United States
ATTACH;FMTTYPE=image/jpeg:https://claycountydems.org/wp-content/uploads/2023/09/ClayCountyNC_LogoWhiteSquare400x400.jpg
END:VEVENT
BEGIN:VEVENT
DTSTART;TZID=America/New_York:20230927T190000
DTEND;TZID=America/New_York:20230927T200000
DTSTAMP:20260422T003135
CREATED:20230328T170827Z
LAST-MODIFIED:20230328T170827Z
UID:1429-1695841200-1695844800@claycountydems.org
SUMMARY:Soil & Water Conservation District Board Meeting
DESCRIPTION:The SWCD board meets on the 4th Wednesday of each the month at 7:00 PM at 25 Riverside Circle (i.e.\, the brick community building down the hill from the library). The group meets in the conference room of the NC Cooperative Extension.
URL:https://claycountydems.org/event/soil-water-conservation-district-board-meeting-6/
LOCATION:Soil & Water Conservation District Board Meeting Location\, 25 Riverside Circle\, Hayesville\, NC\, 28904\, United States
ATTACH;FMTTYPE=image/jpeg:https://claycountydems.org/wp-content/uploads/2023/03/soil_150x100.jpg
END:VEVENT
END:VCALENDAR