BEGIN:VCALENDAR
VERSION:2.0
PRODID:-//Clay County NC Democrats - ECPv6.15.20//NONSGML v1.0//EN
CALSCALE:GREGORIAN
METHOD:PUBLISH
X-WR-CALNAME:Clay County NC Democrats
X-ORIGINAL-URL:https://claycountydems.org
X-WR-CALDESC:Events for Clay County NC Democrats
REFRESH-INTERVAL;VALUE=DURATION:PT1H
X-Robots-Tag:noindex
X-PUBLISHED-TTL:PT1H
BEGIN:VTIMEZONE
TZID:America/New_York
BEGIN:DAYLIGHT
TZOFFSETFROM:-0500
TZOFFSETTO:-0400
TZNAME:EDT
DTSTART:20220313T070000
END:DAYLIGHT
BEGIN:STANDARD
TZOFFSETFROM:-0400
TZOFFSETTO:-0500
TZNAME:EST
DTSTART:20221106T060000
END:STANDARD
BEGIN:DAYLIGHT
TZOFFSETFROM:-0500
TZOFFSETTO:-0400
TZNAME:EDT
DTSTART:20230312T070000
END:DAYLIGHT
BEGIN:STANDARD
TZOFFSETFROM:-0400
TZOFFSETTO:-0500
TZNAME:EST
DTSTART:20231105T060000
END:STANDARD
BEGIN:DAYLIGHT
TZOFFSETFROM:-0500
TZOFFSETTO:-0400
TZNAME:EDT
DTSTART:20240310T070000
END:DAYLIGHT
BEGIN:STANDARD
TZOFFSETFROM:-0400
TZOFFSETTO:-0500
TZNAME:EST
DTSTART:20241103T060000
END:STANDARD
END:VTIMEZONE
BEGIN:VEVENT
DTSTART;TZID=America/New_York:20231207T184500
DTEND;TZID=America/New_York:20231207T193000
DTSTAMP:20260421T195955
CREATED:20230105T232118Z
LAST-MODIFIED:20230105T232118Z
UID:1279-1701974700-1701977400@claycountydems.org
SUMMARY:Clay County Board of Commissioners Meeting
DESCRIPTION:The Clay County Board of Commissioners meet monthly on the 1st Thursday of the month at 6:45 PM.  A button linking to the current agenda can be found here: https://www.claync.us/board-of-commissioners
URL:https://claycountydems.org/event/clay-county-board-of-commissioners-meeting-22/
LOCATION:Board of Commissioners Meeting Location\, 261 Courthouse Drive\, Hayesville\, 28904\, United States
ATTACH;FMTTYPE=image/png:https://claycountydems.org/wp-content/uploads/2022/01/ClayCounty.png
END:VEVENT
BEGIN:VEVENT
DTSTART;TZID=America/New_York:20231211T180000
DTEND;TZID=America/New_York:20231211T200000
DTSTAMP:20260421T195955
CREATED:20231201T162837Z
LAST-MODIFIED:20231201T162936Z
UID:1565-1702317600-1702324800@claycountydems.org
SUMMARY:CCDP Holiday Party
DESCRIPTION:Please join us for our Holiday Party at the Corner Coffee Shop in Hayesville on Monday Dec 11th at 6:00 PM for an opportunity to meet other Democrats in our county.  All are welcome to attend this free event.  Various finger foods  and drinks will be provided.
URL:https://claycountydems.org/event/ccdp-holiday-party/
LOCATION:The Corner Coffee Shop\, 66 Church St\,\, Hayesville\, NC\, 28904\, United States
ATTACH;FMTTYPE=image/jpeg:https://claycountydems.org/wp-content/uploads/2023/12/Holiday-Party.jpg
END:VEVENT
BEGIN:VEVENT
DTSTART;TZID=America/New_York:20231211T183000
DTEND;TZID=America/New_York:20231211T193000
DTSTAMP:20260421T195955
CREATED:20230322T030429Z
LAST-MODIFIED:20230322T030429Z
UID:1353-1702319400-1702323000@claycountydems.org
SUMMARY:Hayesville Town Council Meeting
DESCRIPTION:Town Council meetings are open to the public and held on the 2nd Monday of each month at 6:30 pm.  You may call the Town Clerk at 828-389-1862 for more information on the Town Council or for specific meeting information.  Meeting minutes and information may be found here.
URL:https://claycountydems.org/event/hayesville-town-council-meeting-9/
LOCATION:Hayesville Town Hall\, 56 Sanderson Street\, Hayesville\, NC\, 28904\, United States
ATTACH;FMTTYPE=image/jpeg:https://claycountydems.org/wp-content/uploads/2023/03/HayesvilleTownCouncil-1.jpg
END:VEVENT
BEGIN:VEVENT
DTSTART;TZID=America/New_York:20231213T090000
DTEND;TZID=America/New_York:20231213T100000
DTSTAMP:20260421T195955
CREATED:20230322T184601Z
LAST-MODIFIED:20230322T184649Z
UID:1408-1702458000-1702461600@claycountydems.org
SUMMARY:Board of Elections Meeting
DESCRIPTION:The Clay County Board of Elections meets monthly on the 2nd Tuesday of the month at 9:00 AM.  For some reason this one is on a Wednesday… please double check BOE meeting calendar here.
URL:https://claycountydems.org/event/board-of-elections-meeting-10/
LOCATION:Board of Elections Meeting Location\, 75 Riverside Circle\, Suite 3\, Hayesville\, NC\, 28904
ATTACH;FMTTYPE=image/jpeg:https://claycountydems.org/wp-content/uploads/2023/03/BoardOfElections.jpg
END:VEVENT
BEGIN:VEVENT
DTSTART;TZID=America/New_York:20231227T190000
DTEND;TZID=America/New_York:20231227T200000
DTSTAMP:20260421T195955
CREATED:20230328T171229Z
LAST-MODIFIED:20230328T171229Z
UID:1435-1703703600-1703707200@claycountydems.org
SUMMARY:Soil & Water Conservation District Board Meeting
DESCRIPTION:The SWCD board meets on the 4th Wednesday of each the month at 7:00 PM at 25 Riverside Circle (i.e.\, the brick community building down the hill from the library). The group meets in the conference room of the NC Cooperative Extension.
URL:https://claycountydems.org/event/soil-water-conservation-district-board-meeting-9/
LOCATION:Soil & Water Conservation District Board Meeting Location\, 25 Riverside Circle\, Hayesville\, NC\, 28904\, United States
ATTACH;FMTTYPE=image/jpeg:https://claycountydems.org/wp-content/uploads/2023/03/soil_150x100.jpg
END:VEVENT
END:VCALENDAR