BEGIN:VCALENDAR
VERSION:2.0
PRODID:-//Clay County NC Democrats - ECPv6.15.20//NONSGML v1.0//EN
CALSCALE:GREGORIAN
METHOD:PUBLISH
X-ORIGINAL-URL:https://claycountydems.org
X-WR-CALDESC:Events for Clay County NC Democrats
REFRESH-INTERVAL;VALUE=DURATION:PT1H
X-Robots-Tag:noindex
X-PUBLISHED-TTL:PT1H
BEGIN:VTIMEZONE
TZID:America/New_York
BEGIN:DAYLIGHT
TZOFFSETFROM:-0500
TZOFFSETTO:-0400
TZNAME:EDT
DTSTART:20230312T070000
END:DAYLIGHT
BEGIN:STANDARD
TZOFFSETFROM:-0400
TZOFFSETTO:-0500
TZNAME:EST
DTSTART:20231105T060000
END:STANDARD
BEGIN:DAYLIGHT
TZOFFSETFROM:-0500
TZOFFSETTO:-0400
TZNAME:EDT
DTSTART:20240310T070000
END:DAYLIGHT
BEGIN:STANDARD
TZOFFSETFROM:-0400
TZOFFSETTO:-0500
TZNAME:EST
DTSTART:20241103T060000
END:STANDARD
BEGIN:DAYLIGHT
TZOFFSETFROM:-0500
TZOFFSETTO:-0400
TZNAME:EDT
DTSTART:20250309T070000
END:DAYLIGHT
BEGIN:STANDARD
TZOFFSETFROM:-0400
TZOFFSETTO:-0500
TZNAME:EST
DTSTART:20251102T060000
END:STANDARD
END:VTIMEZONE
BEGIN:VEVENT
DTSTART;TZID=America/New_York:20240307T184500
DTEND;TZID=America/New_York:20240307T194500
DTSTAMP:20260421T151534
CREATED:20240111T014026Z
LAST-MODIFIED:20240111T014026Z
UID:1587-1709837100-1709840700@claycountydems.org
SUMMARY:Clay County Board of Commissioners Meeting
DESCRIPTION:The Clay County Board of Commissioners meet monthly on the 1st Thursday of the month at 6:45 PM.  A button linking to the current agenda can be found here: https://www.claync.us/board-of-commissioners
URL:https://claycountydems.org/event/clay-county-board-of-commissioners-meeting-24/
LOCATION:Board of Commissioners Meeting Location\, 261 Courthouse Drive\, Hayesville\, 28904\, United States
ATTACH;FMTTYPE=image/png:https://claycountydems.org/wp-content/uploads/2022/01/ClayCounty.png
END:VEVENT
BEGIN:VEVENT
DTSTART;TZID=America/New_York:20240311T180000
DTEND;TZID=America/New_York:20240311T193000
DTSTAMP:20260421T151534
CREATED:20240111T011307Z
LAST-MODIFIED:20240111T011307Z
UID:1579-1710180000-1710185400@claycountydems.org
SUMMARY:Banned Book Club
DESCRIPTION:The book selection for Monday\, March 11th 2024 is Long Way Down by Jason Reynolds\, Jill Long moderating.  Please note that this meeting will take place at the Moss Memorial Library meeting room.  Entrance will be via the side door\, off of Main Street\, perpendicular to the entrance of The Friends of the Library Book Store. \n  \nWe are marking our club’s first anniversary\, and here is the list of books we tackled during 2023:\nMarch\, 2023 – Beyond Magenta: Transgender Teens Speak Out (2019) by Susan Kuklin Mod: Dianne Olansky\nApril\, 2023 – Stamped: Racism\, Anti-Racism and You [Remix] (2020) by Jason Reynolds; Adapted from Stamped from the Beginning by Ibram X. Kendi Mod: Linda McDonald and Terry Penland\nMay\, 2023  – Looking for Alaska (2005) by John Green Mod: Hattie Sheehy\nJune\, 2023 – Nickel and Dimed: On (Not) Getting By in America (2001) by Barbara Ehrenreich Mod: Kathe Lowney and Vicki Engel\nJuly\, 2023 – A Thousand Splendid Suns (2007) by Khaled Hosseini Mod: Callie Moore\nAugust 2023 – The Bluest Eye (1970) by Toni Morrison Mod: Dianne Olansky\nSeptember 2023 – Aristotle and Dante Discover the Secrets of the Universe by Benjamin Alire Saenz Mod: Terry Penland\nOctober 2023 – The Absolutely True Diary of a Part-Time Indian by Sherman Alexie Mod: Wendy Slaton\nNovember 2023 – Are You There God? It’s Me\, Margaret by Judy Blume Mod: Jill Long \nFOR THOSE WANTING TO PERUSE SOME BANNED BOOK LISTS:\nTop 100 Most Banned and Challenged Books: 2010-2019 complied by the American Library Association at ala.org\nPEN America’s The 11 Most Banned Books of the 2022-2023 School Year at pen.org \nThe Banned Book Club stands up for intellectual rights by reading and discussing books that have been banned in libraries right here in the United States.  Anyone who cares about the freedom to exchange ideas is welcome to attend.  You may also be interested in visiting The Banned Book Club website to learn how to stand up and fight book bans and also how to get access to banned books in communities where they were banned.
URL:https://claycountydems.org/event/banned-book-club-11/
LOCATION:Moss Public Library (Hayesville)\, 26 Anderson St\, Hayesville\, NC\, 28904\, United States
ATTACH;FMTTYPE=image/jpeg:https://claycountydems.org/wp-content/uploads/2023/03/BannedBookClub.jpg
END:VEVENT
BEGIN:VEVENT
DTSTART;TZID=America/New_York:20240311T183000
DTEND;TZID=America/New_York:20240311T193000
DTSTAMP:20260421T151534
CREATED:20240111T220952Z
LAST-MODIFIED:20240111T220952Z
UID:1655-1710181800-1710185400@claycountydems.org
SUMMARY:Hayesville Town Council Meeting
DESCRIPTION:Town Council meetings are open to the public and held on the 2nd Monday of each month at 6:30 pm.  You may call the Town Clerk at 828-389-1862 for more information on the Town Council or for specific meeting information.  Meeting minutes and information may be found here.
URL:https://claycountydems.org/event/hayesville-town-council-meeting-11/
LOCATION:NC
ATTACH;FMTTYPE=image/jpeg:https://claycountydems.org/wp-content/uploads/2023/03/HayesvilleTownCouncil-1.jpg
END:VEVENT
BEGIN:VEVENT
DTSTART;TZID=America/New_York:20240312T090000
DTEND;TZID=America/New_York:20240312T100000
DTSTAMP:20260421T151534
CREATED:20240111T020304Z
LAST-MODIFIED:20240111T020304Z
UID:1609-1710234000-1710237600@claycountydems.org
SUMMARY:Board of Elections Meeting
DESCRIPTION:The Clay County Board of Elections meets monthly on the 2nd Tuesday of the month at 9:00 AM.
URL:https://claycountydems.org/event/board-of-elections-meeting-12/
LOCATION:Board of Elections Meeting Location\, 75 Riverside Circle\, Suite 3\, Hayesville\, NC\, 28904
ATTACH;FMTTYPE=image/jpeg:https://claycountydems.org/wp-content/uploads/2023/03/BoardOfElections.jpg
END:VEVENT
BEGIN:VEVENT
DTSTART;TZID=America/New_York:20240326T180000
DTEND;TZID=America/New_York:20240326T193000
DTSTAMP:20260421T151534
CREATED:20240129T182821Z
LAST-MODIFIED:20240321T015822Z
UID:1688-1711476000-1711481400@claycountydems.org
SUMMARY:Clay County Democratic Party Monthly Meeting
DESCRIPTION:All Clay County Democrats are invited to attend our monthly meeting at The Corner Coffee Shop in Hayesville.  The Clay County Democratic Party monthly meeting is on the fourth Tuesday of each month with our speaker starting at 6:00 PM followed by an opportunity to socialize at 6:30.  The CCDP holds its business meeting starting around 7:00 PM\, and this meeting is also open for all Democrats to attend if they wish. \nThe speaker for this month is Adam Tebrugge\, Democratic candidate for North Carolina State Senate District 50.  Adam has 23 years experience as an assistant public defender in the Sarasota/Bradenton FL area\, has worked as an adjunct law professor for seven years\,  and was a three time candidate for public office in Florida.  In 2017 he moved to NC and has been working hard to improve the communities in our region.
URL:https://claycountydems.org/event/clay-county-democratic-party-monthly-meeting-3/
LOCATION:The Corner Coffee Shop\, 66 Church St\,\, Hayesville\, NC\, 28904\, United States
ATTACH;FMTTYPE=image/jpeg:https://claycountydems.org/wp-content/uploads/2023/09/ClayCountyNC_LogoWhiteSquare400x400.jpg
END:VEVENT
BEGIN:VEVENT
DTSTART;TZID=America/New_York:20240327T190000
DTEND;TZID=America/New_York:20240327T200000
DTSTAMP:20260421T151534
CREATED:20240111T215323Z
LAST-MODIFIED:20240111T215323Z
UID:1635-1711566000-1711569600@claycountydems.org
SUMMARY:Soil & Water Conservation District Board Meeting
DESCRIPTION:The SWCD board meets on the 4th Wednesday of each the month at 7:00 PM at 25 Riverside Circle (i.e.\, the brick community building down the hill from the library). The group meets in the conference room of the NC Cooperative Extension.
URL:https://claycountydems.org/event/soil-water-conservation-district-board-meeting-12/
LOCATION:Soil & Water Conservation District Board Meeting Location\, 25 Riverside Circle\, Hayesville\, NC\, 28904\, United States
ATTACH;FMTTYPE=image/jpeg:https://claycountydems.org/wp-content/uploads/2023/03/soil_150x100.jpg
END:VEVENT
END:VCALENDAR