BEGIN:VCALENDAR
VERSION:2.0
PRODID:-//Clay County NC Democrats - ECPv6.15.20//NONSGML v1.0//EN
CALSCALE:GREGORIAN
METHOD:PUBLISH
X-ORIGINAL-URL:https://claycountydems.org
X-WR-CALDESC:Events for Clay County NC Democrats
REFRESH-INTERVAL;VALUE=DURATION:PT1H
X-Robots-Tag:noindex
X-PUBLISHED-TTL:PT1H
BEGIN:VTIMEZONE
TZID:America/New_York
BEGIN:DAYLIGHT
TZOFFSETFROM:-0500
TZOFFSETTO:-0400
TZNAME:EDT
DTSTART:20230312T070000
END:DAYLIGHT
BEGIN:STANDARD
TZOFFSETFROM:-0400
TZOFFSETTO:-0500
TZNAME:EST
DTSTART:20231105T060000
END:STANDARD
BEGIN:DAYLIGHT
TZOFFSETFROM:-0500
TZOFFSETTO:-0400
TZNAME:EDT
DTSTART:20240310T070000
END:DAYLIGHT
BEGIN:STANDARD
TZOFFSETFROM:-0400
TZOFFSETTO:-0500
TZNAME:EST
DTSTART:20241103T060000
END:STANDARD
BEGIN:DAYLIGHT
TZOFFSETFROM:-0500
TZOFFSETTO:-0400
TZNAME:EDT
DTSTART:20250309T070000
END:DAYLIGHT
BEGIN:STANDARD
TZOFFSETFROM:-0400
TZOFFSETTO:-0500
TZNAME:EST
DTSTART:20251102T060000
END:STANDARD
END:VTIMEZONE
BEGIN:VEVENT
DTSTART;TZID=America/New_York:20240404T184500
DTEND;TZID=America/New_York:20240404T194500
DTSTAMP:20260421T131214
CREATED:20240111T014255Z
LAST-MODIFIED:20240111T014255Z
UID:1589-1712256300-1712259900@claycountydems.org
SUMMARY:Clay County Board of Commissioners Meeting
DESCRIPTION:The Clay County Board of Commissioners meet monthly on the 1st Thursday of the month at 6:45 PM.  A button linking to the current agenda can be found here: https://www.claync.us/board-of-commissioners
URL:https://claycountydems.org/event/clay-county-board-of-commissioners-meeting-25/
LOCATION:Board of Commissioners Meeting Location\, 261 Courthouse Drive\, Hayesville\, 28904\, United States
ATTACH;FMTTYPE=image/png:https://claycountydems.org/wp-content/uploads/2022/01/ClayCounty.png
END:VEVENT
BEGIN:VEVENT
DTSTART;TZID=America/New_York:20240408T180000
DTEND;TZID=America/New_York:20240408T190000
DTSTAMP:20260421T131214
CREATED:20240318T183115Z
LAST-MODIFIED:20240318T184045Z
UID:1788-1712599200-1712602800@claycountydems.org
SUMMARY:Banned Book Club
DESCRIPTION:The book selection for Monday\, April 8th 2024 is On Tyranny: Twenty Lessons From the Twentieth Century\, Graphic Edition.  The author is Timothy Snyder\, with illustrations by Nora Krug. \n“A more concise\, profound\, or essential book on the subject does not exist.\nSnyder’s masterwork is a stunning reminder of the myriad\, insidious forms oppression takes.\nNow beautifully illustrated by Nora Krug\, On Tyranny is a bellwether for\nwhat we must be awake to\, and fight against.” \nPlease note that this meeting will take place in the Community Room at the Moss Memorial Library.  Entrance will be via the door on the same side as The Friends of the Library Book Store. \n  \nFOR THOSE WANTING TO PERUSE SOME BANNED BOOK LISTS:\nTop 100 Most Banned and Challenged Books: 2010-2019 complied by the American Library Association at ala.org\nPEN America’s The 11 Most Banned Books of the 2022-2023 School Year at pen.org \nThe Banned Book Club stands up for intellectual rights by reading and discussing books that have been banned in libraries right here in the United States.  Anyone who cares about the freedom to exchange ideas is welcome to attend.  You may also be interested in visiting The Banned Book Club website to learn how to stand up and fight book bans and also how to get access to banned books in communities where they were banned.
URL:https://claycountydems.org/event/banned-book-club-12/
LOCATION:Moss Public Library (Hayesville)\, 26 Anderson St\, Hayesville\, NC\, 28904\, United States
ATTACH;FMTTYPE=image/jpeg:https://claycountydems.org/wp-content/uploads/2023/03/BannedBookClub.jpg
END:VEVENT
BEGIN:VEVENT
DTSTART;TZID=America/New_York:20240408T183000
DTEND;TZID=America/New_York:20240408T193000
DTSTAMP:20260421T131214
CREATED:20240111T221057Z
LAST-MODIFIED:20240111T221057Z
UID:1657-1712601000-1712604600@claycountydems.org
SUMMARY:Hayesville Town Council Meeting
DESCRIPTION:Town Council meetings are open to the public and held on the 2nd Monday of each month at 6:30 pm.  You may call the Town Clerk at 828-389-1862 for more information on the Town Council or for specific meeting information.  Meeting minutes and information may be found here.
URL:https://claycountydems.org/event/hayesville-town-council-meeting-12/
LOCATION:Hayesville Town Hall\, 56 Sanderson Street\, Hayesville\, NC\, 28904\, United States
ATTACH;FMTTYPE=image/jpeg:https://claycountydems.org/wp-content/uploads/2023/03/HayesvilleTownCouncil-1.jpg
END:VEVENT
BEGIN:VEVENT
DTSTART;TZID=America/New_York:20240409T090000
DTEND;TZID=America/New_York:20240409T100000
DTSTAMP:20260421T131214
CREATED:20240111T020401Z
LAST-MODIFIED:20240111T020401Z
UID:1611-1712653200-1712656800@claycountydems.org
SUMMARY:Board of Elections Meeting
DESCRIPTION:The Clay County Board of Elections meets monthly on the 2nd Tuesday of the month at 9:00 AM.
URL:https://claycountydems.org/event/board-of-elections-meeting-13/
LOCATION:Board of Elections Meeting Location\, 75 Riverside Circle\, Suite 3\, Hayesville\, NC\, 28904
ATTACH;FMTTYPE=image/jpeg:https://claycountydems.org/wp-content/uploads/2023/03/BoardOfElections.jpg
END:VEVENT
BEGIN:VEVENT
DTSTART;TZID=America/New_York:20240423T180000
DTEND;TZID=America/New_York:20240423T193000
DTSTAMP:20260421T131214
CREATED:20240129T182947Z
LAST-MODIFIED:20240418T191251Z
UID:1690-1713895200-1713900600@claycountydems.org
SUMMARY:Clay County Democratic Party Monthly Meeting
DESCRIPTION:All Clay County Democrats are invited to attend our monthly meeting at The Corner Coffee Shop in Hayesville.  The Clay County Democratic Party monthly meeting is on the fourth Tuesday of each month with our speaker starting at 6:00 PM followed by an opportunity to share refreshments and socialize at 6:30.  The CCDP holds its business meeting starting around 7:00 PM\, and the business meeting is also open for all Democrats to hang around and attend if they wish. \nThis month’s featured speaker is a recorded presentation of Fareed Zakaria talking at the Free Library of Philadelphia.  Mr. Zakaria is a brilliant Indian-American journalist\, political commentator\,  and author.  He also hosts Fareed Zakaria GPS on CNN and writes a weekly column for The Washington Post.
URL:https://claycountydems.org/event/clay-county-democratic-party-monthly-meeting-4/
LOCATION:The Corner Coffee Shop\, 66 Church St\,\, Hayesville\, NC\, 28904\, United States
ATTACH;FMTTYPE=image/png:https://claycountydems.org/wp-content/uploads/2024/01/ClayDems_FareedZakaria.png
END:VEVENT
BEGIN:VEVENT
DTSTART;TZID=America/New_York:20240424T190000
DTEND;TZID=America/New_York:20240424T200000
DTSTAMP:20260421T131214
CREATED:20240111T215428Z
LAST-MODIFIED:20240111T215428Z
UID:1637-1713985200-1713988800@claycountydems.org
SUMMARY:Soil & Water Conservation District Board Meeting
DESCRIPTION:The SWCD board meets on the 4th Wednesday of each the month at 7:00 PM at 25 Riverside Circle (i.e.\, the brick community building down the hill from the library). The group meets in the conference room of the NC Cooperative Extension.
URL:https://claycountydems.org/event/soil-water-conservation-district-board-meeting-13/
LOCATION:Soil & Water Conservation District Board Meeting Location\, 25 Riverside Circle\, Hayesville\, NC\, 28904\, United States
ATTACH;FMTTYPE=image/jpeg:https://claycountydems.org/wp-content/uploads/2023/03/soil_150x100.jpg
END:VEVENT
END:VCALENDAR