BEGIN:VCALENDAR
VERSION:2.0
PRODID:-//Clay County NC Democrats - ECPv6.15.20//NONSGML v1.0//EN
CALSCALE:GREGORIAN
METHOD:PUBLISH
X-WR-CALNAME:Clay County NC Democrats
X-ORIGINAL-URL:https://claycountydems.org
X-WR-CALDESC:Events for Clay County NC Democrats
REFRESH-INTERVAL;VALUE=DURATION:PT1H
X-Robots-Tag:noindex
X-PUBLISHED-TTL:PT1H
BEGIN:VTIMEZONE
TZID:America/New_York
BEGIN:DAYLIGHT
TZOFFSETFROM:-0500
TZOFFSETTO:-0400
TZNAME:EDT
DTSTART:20230312T070000
END:DAYLIGHT
BEGIN:STANDARD
TZOFFSETFROM:-0400
TZOFFSETTO:-0500
TZNAME:EST
DTSTART:20231105T060000
END:STANDARD
BEGIN:DAYLIGHT
TZOFFSETFROM:-0500
TZOFFSETTO:-0400
TZNAME:EDT
DTSTART:20240310T070000
END:DAYLIGHT
BEGIN:STANDARD
TZOFFSETFROM:-0400
TZOFFSETTO:-0500
TZNAME:EST
DTSTART:20241103T060000
END:STANDARD
BEGIN:DAYLIGHT
TZOFFSETFROM:-0500
TZOFFSETTO:-0400
TZNAME:EDT
DTSTART:20250309T070000
END:DAYLIGHT
BEGIN:STANDARD
TZOFFSETFROM:-0400
TZOFFSETTO:-0500
TZNAME:EST
DTSTART:20251102T060000
END:STANDARD
END:VTIMEZONE
BEGIN:VEVENT
DTSTART;TZID=America/New_York:20240905T184500
DTEND;TZID=America/New_York:20240905T194500
DTSTAMP:20260421T045239
CREATED:20240111T015043Z
LAST-MODIFIED:20240111T015043Z
UID:1599-1725561900-1725565500@claycountydems.org
SUMMARY:Clay County Board of Commissioners Meeting
DESCRIPTION:The Clay County Board of Commissioners meet monthly on the 1st Thursday of the month at 6:45 PM.  A button linking to the current agenda can be found here: https://www.claync.us/board-of-commissioners
URL:https://claycountydems.org/event/clay-county-board-of-commissioners-meeting-30/
LOCATION:Board of Commissioners Meeting Location\, 261 Courthouse Drive\, Hayesville\, 28904\, United States
ATTACH;FMTTYPE=image/png:https://claycountydems.org/wp-content/uploads/2022/01/ClayCounty.png
END:VEVENT
BEGIN:VEVENT
DTSTART;TZID=America/New_York:20240908T160000
DTEND;TZID=America/New_York:20240908T173000
DTSTAMP:20260421T045239
CREATED:20240805T191258Z
LAST-MODIFIED:20240905T192625Z
UID:2164-1725811200-1725816600@claycountydems.org
SUMMARY:Building Community
DESCRIPTION:Join us on Sunday\, September 8th\, at 4:00 PM at the Corner Coffee Shop for “Building Community.” This event is a chance for us to come together in a safe and supportive environment to discuss our biggest concerns about the upcoming election season and explore ways to address them.   This month we will be screening the documentary film “Bad Faith“. \n\n\n\n\n\n\nBAD FAITH is a feature-length documentary that explores the dangerous rise of Christian Nationalism in the United States. The film reveals the secretive political machinery that has relentlessly sought to weaken and destroy American democracy in order to promote its authoritarian vision1. Christian Nationalism has become the most powerful anti-democratic force in America\, with an unparalleled ability to destroy democracy from within. \n \n  \nMichelle Maloney guides us in this moderator-led collaborative community planning event that aims to amplify community voices and generate innovative avenues forward.  Our objectives include identifying actionable ideas that we can pursue throughout the evolving election season. \nIf you are so inclined you may bring a light refreshment\, juice\, or wine to share! Also\, a one dollar or two donation would be appreciated toward the venue expense.  Bring a pen! \nNOTE: The meeting on Voter Suppression is postponed until October.
URL:https://claycountydems.org/event/building-community-5/
LOCATION:The Corner Coffee Shop\, 66 Church St\,\, Hayesville\, NC\, 28904\, United States
ATTACH;FMTTYPE=image/png:https://claycountydems.org/wp-content/uploads/2024/04/EventBuildingCommunity-1.png
END:VEVENT
BEGIN:VEVENT
DTSTART;TZID=America/New_York:20240909T180000
DTEND;TZID=America/New_York:20240909T193000
DTSTAMP:20260421T045239
CREATED:20240709T193008Z
LAST-MODIFIED:20240813T221252Z
UID:2092-1725904800-1725910200@claycountydems.org
SUMMARY:Banned Book Club
DESCRIPTION:The book selection for Monday\, September 9th 2024 is  Devil in the Grove by Gilbert King (2012). \n“The tragic Groveland saga … with its Faulknerian echos of racial injustice spinning around an accusation of rape … comes astonishingly alive in Gilbert King’s narrative. It is both heartbreaking  and unforgettable.” \nWe are now practicing our new Democratized Community Moderating:\n1) Readers will email a question to discuss about the book selection to wendyaslaton@bellsouth.net;\n2) Members will read a short web biography of the author prior to our meeting;\n3) Submitted questions will be compiled and printed for our breakout discussion groups.\nPlease submit your discussion question during week of September 3rd.  \nThis meeting will take place in the Community Room at the Moss Memorial Library.  Entrance will be via the door on the same side as The Friends of the Library Book Store. \nFOR THOSE WANTING TO PERUSE SOME BANNED BOOK LISTS:\nTop 100 Most Banned and Challenged Books: 2010-2019 complied by the American Library Association at ala.org\nPEN America’s The 11 Most Banned Books of the 2022-2023 School Year at pen.org \nThe Banned Book Club stands up for intellectual rights by reading and discussing books that have been banned in libraries right here in the United States.  Anyone who cares about the freedom to exchange ideas is welcome to attend.  You may also be interested in visiting The Banned Book Club website to learn how to stand up and fight book bans and also how to get access to banned books in communities where they were banned. \n 
URL:https://claycountydems.org/event/banned-book-club-17/
LOCATION:Moss Public Library (Hayesville)\, 26 Anderson St\, Hayesville\, NC\, 28904\, United States
ATTACH;FMTTYPE=image/jpeg:https://claycountydems.org/wp-content/uploads/2023/03/BannedBookClub.jpg
END:VEVENT
BEGIN:VEVENT
DTSTART;TZID=America/New_York:20240909T183000
DTEND;TZID=America/New_York:20240909T193000
DTSTAMP:20260421T045239
CREATED:20240111T221704Z
LAST-MODIFIED:20240111T221704Z
UID:1667-1725906600-1725910200@claycountydems.org
SUMMARY:Hayesville Town Council Meeting
DESCRIPTION:Town Council meetings are open to the public and held on the 2nd Monday of each month at 6:30 pm.  You may call the Town Clerk at 828-389-1862 for more information on the Town Council or for specific meeting information.  Meeting minutes and information may be found here.
URL:https://claycountydems.org/event/hayesville-town-council-meeting-17/
LOCATION:Hayesville Town Hall\, 56 Sanderson Street\, Hayesville\, NC\, 28904\, United States
ATTACH;FMTTYPE=image/jpeg:https://claycountydems.org/wp-content/uploads/2023/03/HayesvilleTownCouncil-1.jpg
END:VEVENT
BEGIN:VEVENT
DTSTART;TZID=America/New_York:20240910T090000
DTEND;TZID=America/New_York:20240910T100000
DTSTAMP:20260421T045239
CREATED:20240111T021209Z
LAST-MODIFIED:20240111T021209Z
UID:1621-1725958800-1725962400@claycountydems.org
SUMMARY:Board of Elections Meeting
DESCRIPTION:The Clay County Board of Elections meets monthly on the 2nd Tuesday of the month at 9:00 AM.
URL:https://claycountydems.org/event/board-of-elections-meeting-18/
LOCATION:Board of Elections Meeting Location\, 75 Riverside Circle\, Suite 3\, Hayesville\, NC\, 28904
ATTACH;FMTTYPE=image/jpeg:https://claycountydems.org/wp-content/uploads/2023/03/BoardOfElections.jpg
END:VEVENT
BEGIN:VEVENT
DTSTART;TZID=America/New_York:20240914T100000
DTEND;TZID=America/New_York:20240914T110000
DTSTAMP:20260421T045239
CREATED:20240901T173048Z
LAST-MODIFIED:20240901T173246Z
UID:2234-1726308000-1726311600@claycountydems.org
SUMMARY:2024 NC Superintendent of Public Instruction Candidate's Forum Livestream
DESCRIPTION:Here is your chance to see the far-right MAGA candidate who seeks to destroy public education face off against Mo Green.  This is a livestream event you can watch from home. \n“It still amazes me that this woman is a candidate\, given her history of anti public school rants\, her call to invoke the Insurrection Act to keep Trump in office\, her support of private school vouchers\, and lately her call to reject federal funding of 1.5 billion dollars. She is dangerous\, as is her friend running for governor.” – Betty Lohr \n“Go Mo! Qualified\, experienced\, respectable!” – Mike Mele \nJoin NCPTA and Public Schools First NC on Saturday\, September 14 from 10-11am for a NC Superintendent of Public Instruction Candidate Forum. Please register and we will send you a link the morning of September 14th to the livestream. Scan the QR code on the image or click the link below to register:https://docs.google.com/…/1FAIpQLSewebU0j5Zfmt…/viewform
URL:https://claycountydems.org/event/2024-nc-superintendent-of-public-instruction-candidates-forum-livestream/
LOCATION:NC
ATTACH;FMTTYPE=image/jpeg:https://claycountydems.org/wp-content/uploads/2024/09/EventSIPI_CandidateForum.jpg
END:VEVENT
BEGIN:VEVENT
DTSTART;TZID=America/New_York:20240923T180000
DTEND;TZID=America/New_York:20240923T190000
DTSTAMP:20260421T045239
CREATED:20240509T190624Z
LAST-MODIFIED:20240509T190624Z
UID:1944-1727114400-1727118000@claycountydems.org
SUMMARY:Clay County Board of Education
DESCRIPTION:The Clay County Board of Education meets in regular session on the 4th Monday night every month unless otherwise posted. All meetings begin at 6:00 pm in the board room of the Clay County Board of Education office.
URL:https://claycountydems.org/event/clay-county-board-of-education-5/
LOCATION:Hayesville High School\, 205 Yellow Jacket Dr\, Hayesville\, 28904
ATTACH;FMTTYPE=image/png:https://claycountydems.org/wp-content/uploads/2022/01/SchoolBoard.png
END:VEVENT
BEGIN:VEVENT
DTSTART;TZID=America/New_York:20240924T180000
DTEND;TZID=America/New_York:20240924T193000
DTSTAMP:20260421T045239
CREATED:20240129T183634Z
LAST-MODIFIED:20240901T182427Z
UID:1700-1727200800-1727206200@claycountydems.org
SUMMARY:Clay County Democratic Party Monthly Meeting
DESCRIPTION:This month we are  continuing to plan volunteer activities and plan our GOTV voter outreach.  If you are wanting to help Dems win in November we would love to see you at this meeting.  We will not have a guest speaker this meeting\, but rather will focus on the continued planning and strategizing for the final 2 crunch months ahead.  We have a concrete metric of increasing Democratic voter turnout by 3% for this election and need all of the help we can get.  If you want to volunteer in some capacity to get us across the election finish line in November\, please join us. \nAll Clay County Democrats are invited to attend our monthly meeting at The Corner Coffee Shop in Hayesville.  The Clay County Democratic Party monthly meeting is on the fourth Tuesday of each month with our guest speaker starting at 6:00 PM followed by an opportunity to have a snack and socialize at 6:30.  The CCDP holds its business meeting starting around 7:00 PM\, and that portion of the meeting is also open for all Democrats to attend if they wish.
URL:https://claycountydems.org/event/clay-county-democratic-party-monthly-meeting-9/
LOCATION:The Corner Coffee Shop\, 66 Church St\,\, Hayesville\, NC\, 28904\, United States
ATTACH;FMTTYPE=image/jpeg:https://claycountydems.org/wp-content/uploads/2023/09/ClayCountyNC_LogoWhiteSquare400x400.jpg
END:VEVENT
BEGIN:VEVENT
DTSTART;TZID=America/New_York:20240925T190000
DTEND;TZID=America/New_York:20240925T200000
DTSTAMP:20260421T045239
CREATED:20240111T220039Z
LAST-MODIFIED:20240111T220039Z
UID:1647-1727290800-1727294400@claycountydems.org
SUMMARY:Soil & Water Conservation District Board Meeting
DESCRIPTION:The SWCD board meets on the 4th Wednesday of each the month at 7:00 PM at 25 Riverside Circle (i.e.\, the brick community building down the hill from the library). The group meets in the conference room of the NC Cooperative Extension.
URL:https://claycountydems.org/event/soil-water-conservation-district-board-meeting-18/
LOCATION:Soil & Water Conservation District Board Meeting Location\, 25 Riverside Circle\, Hayesville\, NC\, 28904\, United States
ATTACH;FMTTYPE=image/jpeg:https://claycountydems.org/wp-content/uploads/2023/03/soil_150x100.jpg
END:VEVENT
END:VCALENDAR