BEGIN:VCALENDAR
VERSION:2.0
PRODID:-//Clay County NC Democrats - ECPv6.15.20//NONSGML v1.0//EN
CALSCALE:GREGORIAN
METHOD:PUBLISH
X-WR-CALNAME:Clay County NC Democrats
X-ORIGINAL-URL:https://claycountydems.org
X-WR-CALDESC:Events for Clay County NC Democrats
REFRESH-INTERVAL;VALUE=DURATION:PT1H
X-Robots-Tag:noindex
X-PUBLISHED-TTL:PT1H
BEGIN:VTIMEZONE
TZID:America/New_York
BEGIN:DAYLIGHT
TZOFFSETFROM:-0500
TZOFFSETTO:-0400
TZNAME:EDT
DTSTART:20240310T070000
END:DAYLIGHT
BEGIN:STANDARD
TZOFFSETFROM:-0400
TZOFFSETTO:-0500
TZNAME:EST
DTSTART:20241103T060000
END:STANDARD
BEGIN:DAYLIGHT
TZOFFSETFROM:-0500
TZOFFSETTO:-0400
TZNAME:EDT
DTSTART:20250309T070000
END:DAYLIGHT
BEGIN:STANDARD
TZOFFSETFROM:-0400
TZOFFSETTO:-0500
TZNAME:EST
DTSTART:20251102T060000
END:STANDARD
BEGIN:DAYLIGHT
TZOFFSETFROM:-0500
TZOFFSETTO:-0400
TZNAME:EDT
DTSTART:20260308T070000
END:DAYLIGHT
BEGIN:STANDARD
TZOFFSETFROM:-0400
TZOFFSETTO:-0500
TZNAME:EST
DTSTART:20261101T060000
END:STANDARD
END:VTIMEZONE
BEGIN:VEVENT
DTSTART;TZID=America/New_York:20250302T160000
DTEND;TZID=America/New_York:20250302T173000
DTSTAMP:20260420T174410
CREATED:20241226T204340Z
LAST-MODIFIED:20241226T204340Z
UID:2354-1740931200-1740936600@claycountydems.org
SUMMARY:Building Community
DESCRIPTION:Building Community is a non-partisan monthly event intended to build strength within our own community to fight back against attempts to weaken our Democracy.  After the last election many of us have been experiencing a range of emotions— anger\, frustration\, disappointment\, uncertainty—and that these feelings can sometimes feel isolating.  Please know that you are not alone and that we are much stronger as a group.  Please join us the first Sunday of each month at 4:00 PM at the Corner Coffee Shop (MJs) in Hayesville for educational presentations\, riveting discussion\, and practical actions we can take to strengthen our community and our Democracy. \nFeel free to bring a to bring a personal snack and/or drink\, or finger foods if you wish to share. \nNOTE: Although Building Community is a local event addressing issues originating from our community members\, we have an affiliation with the national group\, Indivisible due to the overlap of common goals.  We believe we can learn\, grow\, and share more effectively with this affiliation.
URL:https://claycountydems.org/event/building-community-11/
LOCATION:The Corner Coffee Shop\, 66 Church St\,\, Hayesville\, NC\, 28904\, United States
ATTACH;FMTTYPE=image/png:https://claycountydems.org/wp-content/uploads/2024/04/EventBuildingCommunity-1.png
END:VEVENT
BEGIN:VEVENT
DTSTART;TZID=America/New_York:20250306T183000
DTEND;TZID=America/New_York:20250306T193000
DTSTAMP:20260420T174410
CREATED:20241228T211927Z
LAST-MODIFIED:20241228T211927Z
UID:2512-1741285800-1741289400@claycountydems.org
SUMMARY:Clay County Board of Commissioners
DESCRIPTION:The Clay County Board of Commissioners meet monthly on the 1st Thursday of the month at 6:45 PM.  A button linking to the current agenda can be found here: https://www.claync.us/board-of-commissioners
URL:https://claycountydems.org/event/clay-county-board-of-commissioners-3/
LOCATION:Board of Commissioners Meeting Location\, 261 Courthouse Drive\, Hayesville\, 28904\, United States
ATTACH;FMTTYPE=image/png:https://claycountydems.org/wp-content/uploads/2022/01/ClayCounty.png
END:VEVENT
BEGIN:VEVENT
DTSTART;TZID=America/New_York:20250310T180000
DTEND;TZID=America/New_York:20250310T193000
DTSTAMP:20260420T174410
CREATED:20240709T200012Z
LAST-MODIFIED:20250306T045936Z
UID:2101-1741629600-1741635000@claycountydems.org
SUMMARY:Banned Book Club
DESCRIPTION:The book selection for Monday\, March 10th 2025 is I Know why the Caged Bird Sings by Mayo Angelo (1969). \n“I Know Why The Caged Bird Sings by Maya Angelou was challenged in 2007 (and other years) for sexual content. This is Angelou’s autobiography\, written in prose that matches the rhythms and poignancy of her poetry. It gives context to her poems and tells a story about race\, womanhood\, sexual assault\, and\, ultimately\, love and reading. It’s a classic for a reason\, a memoir that is as much a pleasure to read as it is important.” \nWe are now practicing our new Democratized Community Moderating:\n1) Readers will email a question to discuss about the book selection to wendyaslaton@bellsouth.net;\n2) Members will read a short web biography of the author prior to our meeting;\n3) Submitted questions will be compiled and printed for our breakout discussion groups.\nPlease submit your discussion question during week of March 3rd. \nThis meeting will take place in the Community Room at the Moss Memorial Library.  Entrance will be via the door on the same side as The Friends of the Library Book Store. \nFOR THOSE WANTING TO PERUSE SOME BANNED BOOK LISTS:\nTop 100 Most Banned and Challenged Books: 2010-2019 complied by the American Library Association at ala.org\nPEN America’s The 11 Most Banned Books of the 2022-2023 School Year at pen.org \nThe Banned Book Club stands up for intellectual rights by reading and discussing books that have been banned in libraries right here in the United States.  Anyone who cares about the freedom to exchange ideas is welcome to attend.  You may also be interested in visiting The Banned Book Club website to learn how to stand up and fight book bans and also how to get access to banned books in communities where they were banned.
URL:https://claycountydems.org/event/banned-book-club-21/
LOCATION:Moss Public Library (Hayesville)\, 26 Anderson St\, Hayesville\, NC\, 28904\, United States
ATTACH;FMTTYPE=image/jpeg:https://claycountydems.org/wp-content/uploads/2023/03/BannedBookClub.jpg
END:VEVENT
BEGIN:VEVENT
DTSTART;TZID=America/New_York:20250310T183000
DTEND;TZID=America/New_York:20250310T193000
DTSTAMP:20260420T174410
CREATED:20241227T185431Z
LAST-MODIFIED:20241227T185701Z
UID:2433-1741631400-1741635000@claycountydems.org
SUMMARY:Hayesville Town Council Meeting
DESCRIPTION:Town Council meetings are open to the public and held on the 2nd Monday of each month at 6:30 pm.  You may call the Town Clerk at 828-389-1862 for more information on the Town Council or for specific meeting information.  Meeting minutes and information may be found here.
URL:https://claycountydems.org/event/hayesville-town-council-meeting-23/
LOCATION:Hayesville Town Hall\, 56 Sanderson Street\, Hayesville\, NC\, 28904\, United States
ATTACH;FMTTYPE=image/jpeg:https://claycountydems.org/wp-content/uploads/2023/03/HayesvilleTownCouncil-1.jpg
END:VEVENT
BEGIN:VEVENT
DTSTART;TZID=America/New_York:20250311T090000
DTEND;TZID=America/New_York:20250311T100000
DTSTAMP:20260420T174410
CREATED:20241227T172631Z
LAST-MODIFIED:20241227T172631Z
UID:2407-1741683600-1741687200@claycountydems.org
SUMMARY:Clay County Board of Elections
DESCRIPTION:The Clay County Board of Elections meets monthly on the 2nd Tuesday of the month at 9:00 AM.  Additional information about the Clay County Board of elections may be found on their  website: https://elections.claync.us/.
URL:https://claycountydems.org/event/clay-county-board-of-elections-3/
LOCATION:Board of Elections Meeting Location\, 75 Riverside Circle\, Suite 3\, Hayesville\, NC\, 28904
ATTACH;FMTTYPE=image/jpeg:https://claycountydems.org/wp-content/uploads/2023/03/BoardOfElections.jpg
END:VEVENT
BEGIN:VEVENT
DTSTART;TZID=America/New_York:20250324T180000
DTEND;TZID=America/New_York:20250324T190000
DTSTAMP:20260420T174410
CREATED:20241228T205303Z
LAST-MODIFIED:20241228T205303Z
UID:2486-1742839200-1742842800@claycountydems.org
SUMMARY:Clay County Board of Education
DESCRIPTION:The Clay County Board of Education meets in regular session on the 4th Monday night every month unless otherwise posted.  The Clay County School website is clayschools.org and the School Board web page and minutes may be found here.  All meetings begin at 6:00 pm in the board room of the Clay County Board of Education office.
URL:https://claycountydems.org/event/clay-county-board-of-education-11/
LOCATION:School Board Meeting Location\, 154 Yellow Jacket Dr\,\, Hayesville\, 28904\, United States
ATTACH;FMTTYPE=image/png:https://claycountydems.org/wp-content/uploads/2022/01/SchoolBoard.png
END:VEVENT
BEGIN:VEVENT
DTSTART;TZID=America/New_York:20250325T180000
DTEND;TZID=America/New_York:20250325T193000
DTSTAMP:20260420T174410
CREATED:20241227T162831Z
LAST-MODIFIED:20250321T140527Z
UID:2378-1742925600-1742931000@claycountydems.org
SUMMARY:Clay County Democratic Party Monthly Meeting
DESCRIPTION:All Clay County voters are invited to attend our monthly meeting at The Corner Coffee Shop in Hayesville.  Our speaker for this meeting will be Michael Careccia is the NC Democratic Party Regional Organizing Director (ROD) for 26 counties in Western NC\, and is also the Chair of the Caldwell County Democratic Party.   He has been our ROD since 2017 and acts as a liaison between the state and the county parties. \nMichael Careccia\, born in Chiefland\, Florida in 1992\, moved to Lenoir in 2012\, yet he remains deeply connected to the Appalachian region through his family roots in Western North Carolina. A blue-collar worker who has served as an apprentice electrician\, Michael relates to everyday working-class struggles. His public service began in 2010 with the Chiefland Fire Department\, and he has since championed workers’ rights and environmental preservation in mountain communities. \nThe Clay County Democratic Party monthly meeting is on the fourth Tuesday of each month with our guest speaker starting at 6:00 PM followed by an opportunity to socialize at 6:30.  The CCDP holds its business meeting starting around 7:00 PM\, and this portion of the meeting is open for all Democrats to attend if they wish.
URL:https://claycountydems.org/event/clay-county-democratic-party-monthly-meeting-12/
LOCATION:The Corner Coffee Shop\, 66 Church St\,\, Hayesville\, NC\, 28904\, United States
ATTACH;FMTTYPE=image/jpeg:https://claycountydems.org/wp-content/uploads/2023/09/ClayCountyNC_LogoWhiteSquare400x400.jpg
END:VEVENT
BEGIN:VEVENT
DTSTART;TZID=America/New_York:20250326T190000
DTEND;TZID=America/New_York:20250326T200000
DTSTAMP:20260420T174410
CREATED:20241227T191552Z
LAST-MODIFIED:20241227T191552Z
UID:2457-1743015600-1743019200@claycountydems.org
SUMMARY:Soil & Water Conservation District Board Meeting
DESCRIPTION:The SWCD board meets on the 4th Wednesday of each the month at 7:00 PM at 25 Riverside Circle (i.e.\, the brick community building down the hill from the library). The group meets in the conference room of the NC Cooperative Extension.
URL:https://claycountydems.org/event/soil-water-conservation-district-board-meeting-23/
LOCATION:Soil & Water Conservation District Board Meeting Location\, 25 Riverside Circle\, Hayesville\, NC\, 28904\, United States
ATTACH;FMTTYPE=image/jpeg:https://claycountydems.org/wp-content/uploads/2023/03/soil_150x100.jpg
END:VEVENT
END:VCALENDAR