BEGIN:VCALENDAR
VERSION:2.0
PRODID:-//Clay County NC Democrats - ECPv6.15.20//NONSGML v1.0//EN
CALSCALE:GREGORIAN
METHOD:PUBLISH
X-ORIGINAL-URL:https://claycountydems.org
X-WR-CALDESC:Events for Clay County NC Democrats
REFRESH-INTERVAL;VALUE=DURATION:PT1H
X-Robots-Tag:noindex
X-PUBLISHED-TTL:PT1H
BEGIN:VTIMEZONE
TZID:America/New_York
BEGIN:DAYLIGHT
TZOFFSETFROM:-0500
TZOFFSETTO:-0400
TZNAME:EDT
DTSTART:20240310T070000
END:DAYLIGHT
BEGIN:STANDARD
TZOFFSETFROM:-0400
TZOFFSETTO:-0500
TZNAME:EST
DTSTART:20241103T060000
END:STANDARD
BEGIN:DAYLIGHT
TZOFFSETFROM:-0500
TZOFFSETTO:-0400
TZNAME:EDT
DTSTART:20250309T070000
END:DAYLIGHT
BEGIN:STANDARD
TZOFFSETFROM:-0400
TZOFFSETTO:-0500
TZNAME:EST
DTSTART:20251102T060000
END:STANDARD
BEGIN:DAYLIGHT
TZOFFSETFROM:-0500
TZOFFSETTO:-0400
TZNAME:EDT
DTSTART:20260308T070000
END:DAYLIGHT
BEGIN:STANDARD
TZOFFSETFROM:-0400
TZOFFSETTO:-0500
TZNAME:EST
DTSTART:20261101T060000
END:STANDARD
END:VTIMEZONE
BEGIN:VEVENT
DTSTART;TZID=America/New_York:20250901T120000
DTEND;TZID=America/New_York:20250901T130000
DTSTAMP:20260420T080452
CREATED:20250815T210024Z
LAST-MODIFIED:20250815T213050Z
UID:2923-1756728000-1756731600@claycountydems.org
SUMMARY:Building Community in Clay #WorkersOverBillionaires Labor Day
DESCRIPTION:Building Community in Clay will be holding this local rally in Hayesville in coordination with May Day Strong which is coordinating rallies across the nation. \nRegister for this event on mobilize here: https://www.mobilize.us/mobilize/event/827511/ \nOn September 1st we will continue the movement we launched together on May 1st\, standing in solidarity with all our communities under attack and fighting for real wins for all our people. \nThousands of communities across the country are taking a stand on Labor Day\, join us! We will be in the streets\, outside the offices of the corporate criminals who are behind the attacks on our freedoms\, and at congressional offices. Together we will demand a country that puts workers over billionaires. \nOUR DEMANDS TO BUILD THE SOCIETY WE ALL DESERVE: \n\nStop the billionaire takeover corrupting our government.\nProtect and defend Medicaid\, Social Security\, and other programs for working people\nFully funded schools\, and healthcare and housing for all.\nStop the attacks on immigrants\, Black\, indigenous\, trans people\, and all our communities.\nInvest in people not wars.\n\nPlease note: A core principle behind all our events is a commitment to nonviolent action. We expect all participants to seek to de-escalate any potential confrontation with those who disagree with our values. Weapons of any kind\, including those legally permitted\, should not be brought to events.
URL:https://claycountydems.org/event/workersoverbillionaires-labor-day/
LOCATION:Mayor’s Park Hayesville\, 790 US-64 BUS\, Hayesville\, NC\, 28904
ATTACH;FMTTYPE=image/png:https://claycountydems.org/wp-content/uploads/2025/08/laborday.png
END:VEVENT
BEGIN:VEVENT
DTSTART;TZID=America/New_York:20250904T183000
DTEND;TZID=America/New_York:20250904T193000
DTSTAMP:20260420T080452
CREATED:20241228T212813Z
LAST-MODIFIED:20241228T212813Z
UID:2524-1757010600-1757014200@claycountydems.org
SUMMARY:Clay County Board of Commissioners
DESCRIPTION:The Clay County Board of Commissioners meet monthly on the 1st Thursday of the month at 6:45 PM.  A button linking to the current agenda can be found here: https://www.claync.us/board-of-commissioners
URL:https://claycountydems.org/event/clay-county-board-of-commissioners-9/
LOCATION:Board of Commissioners Meeting Location\, 261 Courthouse Drive\, Hayesville\, 28904\, United States
ATTACH;FMTTYPE=image/png:https://claycountydems.org/wp-content/uploads/2022/01/ClayCounty.png
END:VEVENT
BEGIN:VEVENT
DTSTART;TZID=America/New_York:20250907T160000
DTEND;TZID=America/New_York:20250907T173000
DTSTAMP:20260420T080452
CREATED:20241226T205021Z
LAST-MODIFIED:20241226T205021Z
UID:2366-1757260800-1757266200@claycountydems.org
SUMMARY:Building Community
DESCRIPTION:Building Community is a non-partisan monthly event intended to build strength within our own community to fight back against attempts to weaken our Democracy.  After the last election many of us have been experiencing a range of emotions— anger\, frustration\, disappointment\, uncertainty—and that these feelings can sometimes feel isolating.  Please know that you are not alone and that we are much stronger as a group.  Please join us the first Sunday of each month at 4:00 PM at the Corner Coffee Shop (MJs) in Hayesville for educational presentations\, riveting discussion\, and practical actions we can take to strengthen our community and our Democracy. \nFeel free to bring a to bring a personal snack and/or drink\, or finger foods if you wish to share. \nNOTE: Although Building Community is a local event addressing issues originating from our community members\, we have an affiliation with the national group\, Indivisible due to the overlap of common goals.  We believe we can learn\, grow\, and share more effectively with this affiliation.
URL:https://claycountydems.org/event/building-community-17/
LOCATION:The Corner Coffee Shop\, 66 Church St\,\, Hayesville\, NC\, 28904\, United States
ATTACH;FMTTYPE=image/png:https://claycountydems.org/wp-content/uploads/2024/04/EventBuildingCommunity-1.png
END:VEVENT
BEGIN:VEVENT
DTSTART;TZID=America/New_York:20250908T180000
DTEND;TZID=America/New_York:20250908T193000
DTSTAMP:20260420T080452
CREATED:20250515T225200Z
LAST-MODIFIED:20250730T163518Z
UID:2692-1757354400-1757359800@claycountydems.org
SUMMARY:Banned Book Club
DESCRIPTION:The book selection for Monday\, September 8th\, 2025\, is James (2024) by Percival Everett – Winner of the Kirkus Prize and the National Book Award for Fiction. \n“A re-reimagining of Twain’s Adventures of Huckleberry Finn … explores the issues of rape\, murder\, beatings\, and racism’ from a new perspective”\n \nWe are currently practicing Democratized Community Moderating:\n1) Readers will email a question to discuss about the book selection to claybannedbooks@gmail.com\n2) Members will read a short web biography of the author prior to our meeting\n3) Submitted questions will be compiled and printed for our breakout discussion groups. \nPlease submit your discussion questions or associated articles the week prior to the meeting claybannedbooks@gmail.com \nThis meeting will take place in the Community Room at the Moss Memorial Library.  Entrance will be via the door on the same side as The Friends of the Library Book Store.
URL:https://claycountydems.org/event/banned-book-club-26/
LOCATION:Moss Public Library (Hayesville)\, 26 Anderson St\, Hayesville\, NC\, 28904\, United States
ATTACH;FMTTYPE=image/jpeg:https://claycountydems.org/wp-content/uploads/2023/03/BannedBookClub.jpg
END:VEVENT
BEGIN:VEVENT
DTSTART;TZID=America/New_York:20250908T183000
DTEND;TZID=America/New_York:20250908T193000
DTSTAMP:20260420T080452
CREATED:20241227T190441Z
LAST-MODIFIED:20241227T190441Z
UID:2445-1757356200-1757359800@claycountydems.org
SUMMARY:Hayesville Town Council Meeting
DESCRIPTION:Town Council meetings are open to the public and held on the 2nd Monday of each month at 6:30 pm.  You may call the Town Clerk at 828-389-1862 for more information on the Town Council or for specific meeting information.  Meeting minutes and information may be found here.
URL:https://claycountydems.org/event/hayesville-town-council-meeting-29/
LOCATION:Hayesville Town Hall\, 56 Sanderson Street\, Hayesville\, NC\, 28904\, United States
ATTACH;FMTTYPE=image/jpeg:https://claycountydems.org/wp-content/uploads/2023/03/HayesvilleTownCouncil-1.jpg
END:VEVENT
BEGIN:VEVENT
DTSTART;TZID=America/New_York:20250909T090000
DTEND;TZID=America/New_York:20250909T100000
DTSTAMP:20260420T080452
CREATED:20241227T173628Z
LAST-MODIFIED:20241227T173628Z
UID:2419-1757408400-1757412000@claycountydems.org
SUMMARY:Clay County Board of Elections
DESCRIPTION:The Clay County Board of Elections meets monthly on the 2nd Tuesday of the month at 9:00 AM.  Additional information about the Clay County Board of elections may be found on their  website: https://elections.claync.us/.
URL:https://claycountydems.org/event/clay-county-board-of-elections-9/
LOCATION:Board of Elections Meeting Location\, 75 Riverside Circle\, Suite 3\, Hayesville\, NC\, 28904
ATTACH;FMTTYPE=image/jpeg:https://claycountydems.org/wp-content/uploads/2023/03/BoardOfElections.jpg
END:VEVENT
BEGIN:VEVENT
DTSTART;TZID=America/New_York:20250913T180000
DTEND;TZID=America/New_York:20250913T220000
DTSTAMP:20260420T080452
CREATED:20250528T013903Z
LAST-MODIFIED:20250806T223933Z
UID:2719-1757786400-1757800800@claycountydems.org
SUMMARY:Gnarly Fingers Perform to Benefit Clay County Democratic Party
DESCRIPTION:Gnarly Fingers will perform live on stage at The Staurolite Farm Barn in Brasstown\, in a fundraiser benefiting the Clay County Democratic Party. \nGet tickets for this event here: https://secure.actblue.com/donate/2025_gnarlyfingers
URL:https://claycountydems.org/event/gnarly-fingers-performs-at-benefit-for-clay-county-democratic-party/
LOCATION:The Staurolite Farm Barn in Brasstown\, Staurolite Dr\, BRASSTOWN\, NC\, 28902\, United States
ATTACH;FMTTYPE=image/png:https://claycountydems.org/wp-content/uploads/2025/05/Updated-81-GRIT-GRAZIN-Staurolite-Barn-Rocks-with-Gnarly-Fingers.png
END:VEVENT
BEGIN:VEVENT
DTSTART;TZID=America/New_York:20250922T180000
DTEND;TZID=America/New_York:20250922T190000
DTSTAMP:20260420T080452
CREATED:20241228T210222Z
LAST-MODIFIED:20241228T210222Z
UID:2499-1758564000-1758567600@claycountydems.org
SUMMARY:Clay County Board of Education
DESCRIPTION:The Clay County Board of Education meets in regular session on the 4th Monday night every month unless otherwise posted.  The Clay County School website is clayschools.org and the School Board web page and minutes may be found here.  All meetings begin at 6:00 pm in the boardroom of the Clay County Board of Education office.
URL:https://claycountydems.org/event/clay-county-board-of-education-17/
LOCATION:School Board Meeting Location\, 154 Yellow Jacket Dr\,\, Hayesville\, 28904\, United States
ATTACH;FMTTYPE=image/png:https://claycountydems.org/wp-content/uploads/2022/01/SchoolBoard.png
END:VEVENT
BEGIN:VEVENT
DTSTART;TZID=America/New_York:20250923T173000
DTEND;TZID=America/New_York:20250923T190000
DTSTAMP:20260420T080452
CREATED:20241227T163807Z
LAST-MODIFIED:20250922T132158Z
UID:2390-1758648600-1758654000@claycountydems.org
SUMMARY:Clay County Democratic Party Monthly Meeting
DESCRIPTION:Meeting Agenda \nAll community members are invited to the Clay County Democrats monthly meeting\, where we’ll start with a fascinating video of Bernie Sanders’ recent travels through deep Trump country in West Virginia. You won’t want to miss this chance to see how Bernie connects in tough territory—it’s a great lead-in to our own strategy work. \nAt this month’s business meeting\, we’ll be approving the Clay County Democrats Strategic Plan for the 2025–26 election cycle. This plan is the result of community brainstorm sessions and the work of our Strategic Plan Committee\, who organized your ideas into a roadmap for our future efforts. \nThe plan lays out big-picture goals and specific\, measurable actions needed to achieve them. We’ve also created committees around related objectives—so there’s a place for everyone to get involved in areas their own interest. \nNow it’s time to bring the plan to life—and we need YOU! \n\nReview the Strategic Plan\nExplore the List of Actions by Committee and see where your skills and passion fit\nAdd your name to the Committee Sign-Up Sheet (or sign up at the meeting).\n\nStrategic Plan\nList of Actions by Committee\nCommittee Sign-Up sheet \nTogether\, we can turn our plan into action and build the strongest path forward for 2025–26.  Your voice\, your energy\, and your talents will make the difference so let’s do this together. \nAll Clay County voters are invited to attend our monthly meeting at the Corner Coffee & Wine Shop in Hayesville. The Clay County Democratic Party monthly meeting is on the fourth Tuesday of each month. Our meeting format begins with a half hour to meet and socialize at the beginning of the meeting starting at 5:30PM.  The informal socialization time will end at 6:00 PM at which time our guest speaker will begin.  Finally\, the business meeting will start at the conclusion of our guest speaker’s presentation\, typically around 6:30 PM and the business meeting typically runs about a half an hour.   The business portion of the meeting is open for all to attend\, and any Clay County registered democrats may vote in business meeting motions if they wish.
URL:https://claycountydems.org/event/clay-county-democratic-party-monthly-meeting-18/
LOCATION:The Corner Coffee Shop\, 66 Church St\,\, Hayesville\, NC\, 28904\, United States
ATTACH;FMTTYPE=image/jpeg:https://claycountydems.org/wp-content/uploads/2023/09/ClayCountyNC_LogoWhiteSquare400x400.jpg
END:VEVENT
BEGIN:VEVENT
DTSTART;TZID=America/New_York:20250924T190000
DTEND;TZID=America/New_York:20250924T200000
DTSTAMP:20260420T080452
CREATED:20241227T192904Z
LAST-MODIFIED:20241227T192904Z
UID:2471-1758740400-1758744000@claycountydems.org
SUMMARY:Soil & Water Conservation District Board Meeting
DESCRIPTION:The SWCD board meets on the 4th Wednesday of each the month at 7:00 PM at 25 Riverside Circle (i.e.\, the brick community building down the hill from the library). The group meets in the conference room of the NC Cooperative Extension.
URL:https://claycountydems.org/event/soil-water-conservation-district-board-meeting-30/
LOCATION:Soil & Water Conservation District Board Meeting Location\, 25 Riverside Circle\, Hayesville\, NC\, 28904\, United States
ATTACH;FMTTYPE=image/jpeg:https://claycountydems.org/wp-content/uploads/2023/03/soil_150x100.jpg
END:VEVENT
END:VCALENDAR