BEGIN:VCALENDAR
VERSION:2.0
PRODID:-//Clay County NC Democrats - ECPv6.15.20//NONSGML v1.0//EN
CALSCALE:GREGORIAN
METHOD:PUBLISH
X-WR-CALNAME:Clay County NC Democrats
X-ORIGINAL-URL:https://claycountydems.org
X-WR-CALDESC:Events for Clay County NC Democrats
REFRESH-INTERVAL;VALUE=DURATION:PT1H
X-Robots-Tag:noindex
X-PUBLISHED-TTL:PT1H
BEGIN:VTIMEZONE
TZID:America/New_York
BEGIN:DAYLIGHT
TZOFFSETFROM:-0500
TZOFFSETTO:-0400
TZNAME:EDT
DTSTART:20250309T070000
END:DAYLIGHT
BEGIN:STANDARD
TZOFFSETFROM:-0400
TZOFFSETTO:-0500
TZNAME:EST
DTSTART:20251102T060000
END:STANDARD
BEGIN:DAYLIGHT
TZOFFSETFROM:-0500
TZOFFSETTO:-0400
TZNAME:EDT
DTSTART:20260308T070000
END:DAYLIGHT
BEGIN:STANDARD
TZOFFSETFROM:-0400
TZOFFSETTO:-0500
TZNAME:EST
DTSTART:20261101T060000
END:STANDARD
BEGIN:DAYLIGHT
TZOFFSETFROM:-0500
TZOFFSETTO:-0400
TZNAME:EDT
DTSTART:20270314T070000
END:DAYLIGHT
BEGIN:STANDARD
TZOFFSETFROM:-0400
TZOFFSETTO:-0500
TZNAME:EST
DTSTART:20271107T060000
END:STANDARD
END:VTIMEZONE
BEGIN:VEVENT
DTSTART;TZID=America/New_York:20260104T160000
DTEND;TZID=America/New_York:20260104T173000
DTSTAMP:20260419T095411
CREATED:20251222T195659Z
LAST-MODIFIED:20251228T184142Z
UID:3148-1767542400-1767547800@claycountydems.org
SUMMARY:Building Community
DESCRIPTION:Building Community in Clay will meet Sunday\, January 4th\, 4pm\, at The Corner Coffee Shop.  After a holiday break to enjoy the season\, it’s time to get back at it.  At least some of this first meeting of 2026 will be planning out the year to the midterms.  We have decisions to be made and we need YOU to help us do that.  If you’ve been following our emails\, step up your game and attend a meeting.  I promise you will be glad you did! \nAbout Building Community\nBuilding Community is a non-partisan monthly event intended to build strength within our own community to fight back against attempts to weaken our Democracy.  After the last election many of us have been experiencing a range of emotions— anger\, frustration\, disappointment\, uncertainty—and that these feelings can sometimes feel isolating.  Please know that you are not alone and that we are much stronger as a group.  Please join us the first Sunday of each month at 4:00 PM at the Corner Coffee Shop (MJs) in Hayesville for educational presentations\, riveting discussion\, and practical actions we can take to strengthen our community and our Democracy. \nFeel free to bring a to bring a personal snack and/or drink\, or finger foods if you wish to share. \nNOTE: Although Building Community is a local event addressing issues originating from our community members\, we have an affiliation with the national group\, Indivisible due to the overlap of common goals.  We believe we can learn\, grow\, and share more effectively with this affiliation.
URL:https://claycountydems.org/event/building-community-21/
LOCATION:The Corner Coffee Shop\, 66 Church St\,\, Hayesville\, NC\, 28904\, United States
ATTACH;FMTTYPE=image/png:https://claycountydems.org/wp-content/uploads/2025/07/Event_1200x630_BuildingCommunity-1.png
END:VEVENT
BEGIN:VEVENT
DTSTART;TZID=America/New_York:20260108T183000
DTEND;TZID=America/New_York:20260108T193000
DTSTAMP:20260419T095411
CREATED:20251225T221700Z
LAST-MODIFIED:20251225T222131Z
UID:3159-1767897000-1767900600@claycountydems.org
SUMMARY:Clay County Board of Commissioners
DESCRIPTION:NOTE: The Board of Commissioners will meet the second Thursday of the month for the month of January due to New Years Holiday. \nThe Clay County Board of Commissioners meet monthly on the 1st Thursday of the month at 6:30 PM.  A button linking to the current agenda can be found here: https://www.claync.us/board-of-commissioners
URL:https://claycountydems.org/event/clay-county-board-of-commissioners-13/
LOCATION:Board of Commissioners Meeting Location\, 261 Courthouse Drive\, Hayesville\, 28904\, United States
ATTACH;FMTTYPE=image/png:https://claycountydems.org/wp-content/uploads/2022/01/ClayCounty.png
END:VEVENT
BEGIN:VEVENT
DTSTART;TZID=America/New_York:20260112T160000
DTEND;TZID=America/New_York:20260112T173000
DTSTAMP:20260419T095411
CREATED:20250802T210851Z
LAST-MODIFIED:20251222T161700Z
UID:2905-1768233600-1768239000@claycountydems.org
SUMMARY:Banned Book Club
DESCRIPTION:NOTE: Meeting Time has been changed to 4:00 PM \nRather than a book selection for January\, we shall be viewing Interview with Ken Burns discussing his latest documentary\, The American Revolution.   In addition\, there will be discussion and decision-making to determine the group’s path forward. We ask all past BBC participants to bring suggestions for how we can improve everyone’s experience. \n\nWhat have you enjoyed or not enjoyed about our book selections and past discussions?\nAre there new areas of focus/topics you would like the group to explore?\nWhat new directions and approaches do you think would be healthy and productive in these trying times\n\nWE APPRECIATE YOUR IDEAS AND INPUT! \nThis meeting will take place in the Community Room at the Moss Memorial Library.  Entrance will be via the door on the same side as The Friends of the Library Book Store.
URL:https://claycountydems.org/event/banned-book-club-29/
LOCATION:Moss Public Library (Hayesville)\, 26 Anderson St\, Hayesville\, NC\, 28904\, United States
ATTACH;FMTTYPE=image/png:https://claycountydems.org/wp-content/uploads/2025/06/Event_1200x630_BannedBookClub.png
END:VEVENT
BEGIN:VEVENT
DTSTART;TZID=America/New_York:20260112T183000
DTEND;TZID=America/New_York:20260112T193000
DTSTAMP:20260419T095411
CREATED:20251226T193543Z
LAST-MODIFIED:20251226T193636Z
UID:3209-1768242600-1768246200@claycountydems.org
SUMMARY:Hayesville Town Council Meeting
DESCRIPTION:Town Council meetings are open to the public and held on the 2nd Monday of each month at 6:30 pm.  You may call the Town Clerk at 828-389-1862 for more information on the Town Council or for specific meeting information.  Meeting minutes and information may be found here.
URL:https://claycountydems.org/event/hayesville-town-council-meeting-33/
LOCATION:Hayesville Town Hall\, 56 Sanderson Street\, Hayesville\, NC\, 28904\, United States
ATTACH;FMTTYPE=image/jpeg:https://claycountydems.org/wp-content/uploads/2023/03/HayesvilleTownCouncil-1.jpg
END:VEVENT
BEGIN:VEVENT
DTSTART;TZID=America/New_York:20260113T090000
DTEND;TZID=America/New_York:20260113T100000
DTSTAMP:20260419T095411
CREATED:20251226T202135Z
LAST-MODIFIED:20251226T202135Z
UID:3257-1768294800-1768298400@claycountydems.org
SUMMARY:Clay County Board of Elections
DESCRIPTION:The Clay County Board of Elections meets monthly on the 2nd Tuesday of the month at 9:00 AM.  Additional information about the Clay County Board of Elections may be found on their  website: https://elections.claync.us/.
URL:https://claycountydems.org/event/clay-county-board-of-elections-13/
LOCATION:Board of Elections Meeting Location\, 75 Riverside Circle\, Suite 3\, Hayesville\, NC\, 28904
ATTACH;FMTTYPE=image/jpeg:https://claycountydems.org/wp-content/uploads/2023/03/BoardOfElections.jpg
END:VEVENT
BEGIN:VEVENT
DTSTART;TZID=America/New_York:20260117T123000
DTEND;TZID=America/New_York:20260117T150000
DTSTAMP:20260419T095411
CREATED:20251031T193324Z
LAST-MODIFIED:20251222T202536Z
UID:3083-1768653000-1768662000@claycountydems.org
SUMMARY:NC-11 Candidate Forum
DESCRIPTION:Please let us know you plan to come by signing up here. \nClay County Democrats are partnering with neighboring North Carolina counties and organizations to host a joint candidate forum. All NC-11 Democratic Congressional candidates have agreed to attend and will have the opportunity to introduce themselves and respond to questions in a panel discussion format. This is your chance to meet the candidates\, hear their priorities\, and learn where they stand on the issues that matter most to our district. \nThe following is the list of the NC-11 Democratic Candidates: \n\nZelda Briarwood – from Canton.Works in direct care and as an advocate.\nJamie Ager – CEO and co-founder of Hickory Nut Gap Farm. His brother is in the NC General Assembly and family has a history of service in government. Lives in Fairview\nRichard Hudspeth\, M.D. – Family Practice Physician lives in Hendersonville. He served as CEO of Blue Ridge Health.\nPaul Maddox – Cancer researcher at UNC Chapel Hill and two-time entrepreneur.\nLee Whipple – TBD\n\nYou can learn more about each of the candidates by visiting their candidate websites at our 2026 Primary Candidates Page here.
URL:https://claycountydems.org/event/nc-11-candidate-forum/
LOCATION:Moore Hall at the Hinton Center\, 2300 Hinton Center Rd\, Hayesville\, North Carolina\, 28904\, United States
ATTACH;FMTTYPE=image/png:https://claycountydems.org/wp-content/uploads/2025/10/Event_1200x630_NC11CandidateForum.png
END:VEVENT
BEGIN:VEVENT
DTSTART;TZID=America/New_York:20260126T180000
DTEND;TZID=America/New_York:20260126T190000
DTSTAMP:20260419T095411
CREATED:20251226T185311Z
LAST-MODIFIED:20251226T185311Z
UID:3165-1769450400-1769454000@claycountydems.org
SUMMARY:Clay County Board of Education
DESCRIPTION:The Clay County Board of Education meets in regular session on the 4th Monday night every month unless otherwise posted.  The Clay County School website is clayschools.org and the School Board web page and minutes may be found here.  All meetings begin at 6:00 pm in the boardroom of the Clay County Board of Education office.
URL:https://claycountydems.org/event/clay-county-board-of-education-21/
LOCATION:School Board Meeting Location\, 154 Yellow Jacket Dr\,\, Hayesville\, 28904\, United States
ATTACH;FMTTYPE=image/png:https://claycountydems.org/wp-content/uploads/2022/01/SchoolBoard.png
END:VEVENT
BEGIN:VEVENT
DTSTART;TZID=America/New_York:20260127T173000
DTEND;TZID=America/New_York:20260127T190000
DTSTAMP:20260419T095411
CREATED:20251227T012909Z
LAST-MODIFIED:20251227T013247Z
UID:3283-1769535000-1769540400@claycountydems.org
SUMMARY:Clay County Democratic Party Monthly Meeting
DESCRIPTION:You’re invited to the Clay County Democrats’ January Meeting with Guest Speaker Philip Moore!Philip\, a sixth-generation Clay Countian\, will present a brief overview of the political history of Clay County.  He will place our local political evolution within the context of the Appalachian region and the nation\, while challenging common misconceptions.  The talk will include fun and fascinating trivia such as how topography influences politics and how a Clay County election made the national news. \nAll Clay County voters are invited to attend our monthly meeting at the Corner Coffee & Wine Shop in Hayesville. The Clay County Democratic Party monthly meeting is on the fourth Tuesday of each month. Our meeting format begins with a half hour to meet and socialize at the beginning of the meeting starting at 5:30PM.  The informal socialization time will end at 6:00 PM at which time our guest speaker will begin.  Finally\, the business meeting will start at the conclusion of our guest speaker’s presentation\, typically around 6:30 PM and the business meeting typically runs about a half an hour.   The business portion of the meeting is open for all to attend\, and any Clay County registered democrats may vote in business meeting motions if they wish. \n 
URL:https://claycountydems.org/event/clay-county-democratic-party-monthly-meeting-21/
LOCATION:The Corner Coffee Shop\, 66 Church St\,\, Hayesville\, NC\, 28904\, United States
ATTACH;FMTTYPE=image/png:https://claycountydems.org/wp-content/uploads/2025/12/AA_1200x630_MonthlyMeetingPhilipMoore.png
END:VEVENT
BEGIN:VEVENT
DTSTART;TZID=America/New_York:20260128T190000
DTEND;TZID=America/New_York:20260128T200000
DTSTAMP:20260419T095411
CREATED:20251226T200135Z
LAST-MODIFIED:20251226T200135Z
UID:3233-1769626800-1769630400@claycountydems.org
SUMMARY:Soil & Water Conservation District Board Meeting
DESCRIPTION:The SWCD board meets on the 4th Wednesday of each the month at 7:00 PM at 25 Riverside Circle (i.e.\, the brick community building down the hill from the library). The group meets in the conference room of the NC Cooperative Extension.
URL:https://claycountydems.org/event/soil-water-conservation-district-board-meeting-28/
LOCATION:Soil & Water Conservation District Board Meeting Location\, 25 Riverside Circle\, Hayesville\, NC\, 28904\, United States
ATTACH;FMTTYPE=image/jpeg:https://claycountydems.org/wp-content/uploads/2023/03/soil_150x100.jpg
END:VEVENT
END:VCALENDAR